BEGIN:VCALENDAR
PRODID:-//Microsoft Corporation//Outlook 14.0 MIMEDIR//EN
VERSION:2.0
METHOD:PUBLISH
X-MS-OLK-FORCEINSPECTOROPEN:TRUE
BEGIN:VTIMEZONE
TZID:New Zealand Standard Time
BEGIN:STANDARD
DTSTART:16010401T030000
RRULE:FREQ=YEARLY;BYDAY=1SU;BYMONTH=4
TZOFFSETFROM:+1300
TZOFFSETTO:+1200
END:STANDARD
BEGIN:DAYLIGHT
DTSTART:16010930T020000
RRULE:FREQ=YEARLY;BYDAY=-1SU;BYMONTH=9
TZOFFSETFROM:+1200
TZOFFSETTO:+1300
END:DAYLIGHT
END:VTIMEZONE
BEGIN:VEVENT
CLASS:PUBLIC
CREATED:20170803T000456Z
DESCRIPTION:Former Mayor Sir Bob Harvey will showcase and narrate selected 
	'Westie' treasures from family archives\, clubs and local movie makers. Of
	ten funny and deeply moving.\n\nhttp://www.heritagefestival.co.nz/\n\n\n\n
DTEND;TZID="New Zealand Standard Time":20171007T213000
DTSTAMP:20170803T000456Z
DTSTART;TZID="New Zealand Standard Time":20171007T193000
LAST-MODIFIED:20170803T000456Z
LOCATION:418 Titirangi Road\, Lopdell House Theatre\, Titirangi
PRIORITY:5
SEQUENCE:0
SUMMARY;LANGUAGE=en-nz:Abandoned Dreams: Home Movies of our Past in the Wes
	t
TRANSP:OPAQUE
UID:040000008200E00074C5B7101A82E0080000000090CA41B9500CD301000000000000000
	010000000548E88AB4A4861488B931A76B16E100E
X-ALT-DESC;FMTTYPE=text/html:<!DOCTYPE HTML PUBLIC "-//W3C//DTD HTML 3.2//E
	N">\n<HTML>\n<HEAD>\n<META NAME="Generator" CONTENT="MS Exchange Server ve
	rsion 14.02.5004.000">\n<TITLE></TITLE>\n</HEAD>\n<BODY>\n<!-- Converted f
	rom text/rtf format -->\n\n<P DIR=LTR><SPAN LANG="en-nz"></SPAN><SPAN LANG
	="en-nz"><FONT FACE="Arial">Former Mayor Sir Bob Harvey will showcase and 
	narrate selected 'Westie' treasures from family archives\, clubs and local
	 movie makers. Often funny and deeply moving.</FONT></SPAN></P>\n\n<P DIR=
	LTR><SPAN LANG="en-nz"></SPAN><A HREF="http://www.heritagefestival.co.nz/"
	><SPAN LANG="en-nz"></SPAN><SPAN LANG="en-nz"><U><FONT COLOR="#0000FF" FAC
	E="Arial">http://www.heritagefestival.co.nz/</FONT></U></SPAN><SPAN LANG="
	en-nz"></SPAN></A><SPAN LANG="en-nz"></SPAN><SPAN LANG="en-nz"></SPAN></P>
	\n\n<P DIR=LTR><SPAN LANG="en-nz"></SPAN><SPAN LANG="en-nz"></SPAN></P>\n\
	n<P DIR=LTR><SPAN LANG="en-nz"></SPAN><SPAN LANG="en-nz"></SPAN></P>\n\n</
	BODY>\n</HTML>
X-MICROSOFT-CDO-BUSYSTATUS:BUSY
X-MICROSOFT-CDO-IMPORTANCE:1
X-MICROSOFT-DISALLOW-COUNTER:FALSE
X-MS-OLK-AUTOFILLLOCATION:FALSE
X-MS-OLK-CONFTYPE:0
BEGIN:VALARM
TRIGGER:-PT15M
ACTION:DISPLAY
DESCRIPTION:Reminder
END:VALARM
END:VEVENT
END:VCALENDAR
