BEGIN:VCALENDAR
PRODID:-//Microsoft Corporation//Outlook 14.0 MIMEDIR//EN
VERSION:2.0
METHOD:PUBLISH
X-MS-OLK-FORCEINSPECTOROPEN:TRUE
BEGIN:VTIMEZONE
TZID:New Zealand Standard Time
BEGIN:STANDARD
DTSTART:16010401T030000
RRULE:FREQ=YEARLY;BYDAY=1SU;BYMONTH=4
TZOFFSETFROM:+1300
TZOFFSETTO:+1200
END:STANDARD
BEGIN:DAYLIGHT
DTSTART:16010930T020000
RRULE:FREQ=YEARLY;BYDAY=-1SU;BYMONTH=9
TZOFFSETFROM:+1200
TZOFFSETTO:+1300
END:DAYLIGHT
END:VTIMEZONE
BEGIN:VEVENT
CLASS:PUBLIC
CREATED:20170921T205637Z
DESCRIPTION:Sunday 8 October\, 1.30pm and Monday 9 October\, 10.30am\n\nhtt
	p://www.heritagefestival.co.nz/\n\n
DTEND;TZID="New Zealand Standard Time":20171009T103000
DTSTAMP:20170921T205637Z
DTSTART;TZID="New Zealand Standard Time":20171008T133000
LAST-MODIFIED:20170921T205637Z
LOCATION:Papakura War Memorial\, Corner of Great South Road and Opaheke Roa
	d\, Papakura
PRIORITY:5
SEQUENCE:0
SUMMARY;LANGUAGE=en-nz:About Town: Papakura Heritage Walk
TRANSP:OPAQUE
UID:040000008200E00074C5B7101A82E0080000000060D2CDB28033D301000000000000000
	010000000286096F3B426EC478333D54A4A065C86
X-ALT-DESC;FMTTYPE=text/html:<!DOCTYPE HTML PUBLIC "-//W3C//DTD HTML 3.2//E
	N">\n<HTML>\n<HEAD>\n<META NAME="Generator" CONTENT="MS Exchange Server ve
	rsion 14.02.5004.000">\n<TITLE></TITLE>\n</HEAD>\n<BODY>\n<!-- Converted f
	rom text/rtf format -->\n\n<P DIR=LTR><SPAN LANG="en-nz"></SPAN><SPAN LANG
	="en-nz"><FONT FACE="Arial">Sunday 8 October\, 1.30pm and Monday 9 October
	\, 10.30am</FONT></SPAN><SPAN LANG="en-nz"></SPAN><SPAN LANG="en-nz"></SPA
	N></P>\n\n<P DIR=LTR><SPAN LANG="en-nz"></SPAN><SPAN LANG="en-nz"></SPAN><
	/P>\n\n<P DIR=LTR><SPAN LANG="en-nz"></SPAN><A HREF="http://www.heritagefe
	stival.co.nz/"><SPAN LANG="en-nz"></SPAN><SPAN LANG="en-nz"><U><FONT COLOR
	="#0000FF" FACE="Arial">http://www.heritagefestival.co.nz/</FONT></U></SPA
	N><SPAN LANG="en-nz"></SPAN></A><SPAN LANG="en-nz"></SPAN><SPAN LANG="en-n
	z"></SPAN></P>\n\n<P DIR=LTR><SPAN LANG="en-nz"></SPAN><SPAN LANG="en-nz">
	</SPAN></P>\n\n</BODY>\n</HTML>
X-MICROSOFT-CDO-BUSYSTATUS:BUSY
X-MICROSOFT-CDO-IMPORTANCE:1
X-MICROSOFT-DISALLOW-COUNTER:FALSE
X-MS-OLK-AUTOFILLLOCATION:FALSE
X-MS-OLK-CONFTYPE:0
BEGIN:VALARM
TRIGGER:-PT15M
ACTION:DISPLAY
DESCRIPTION:Reminder
END:VALARM
END:VEVENT
END:VCALENDAR
