BEGIN:VCALENDAR
PRODID:-//Microsoft Corporation//Outlook 14.0 MIMEDIR//EN
VERSION:2.0
METHOD:PUBLISH
X-MS-OLK-FORCEINSPECTOROPEN:TRUE
BEGIN:VTIMEZONE
TZID:New Zealand Standard Time
BEGIN:STANDARD
DTSTART:16010401T030000
RRULE:FREQ=YEARLY;BYDAY=1SU;BYMONTH=4
TZOFFSETFROM:+1300
TZOFFSETTO:+1200
END:STANDARD
BEGIN:DAYLIGHT
DTSTART:16010930T020000
RRULE:FREQ=YEARLY;BYDAY=-1SU;BYMONTH=9
TZOFFSETFROM:+1200
TZOFFSETTO:+1300
END:DAYLIGHT
END:VTIMEZONE
BEGIN:VEVENT
CLASS:PUBLIC
CREATED:20170802T230529Z
DESCRIPTION:Classic clinkers play the starring role in this free classic ya
	cht exhibition. Come along to see a hall of fame\, including New Zealand's
	 oldest clinker.\n\nhttp://www.heritagefestival.co.nz/\n
DTEND;TZID="New Zealand Standard Time":20171008T150000
DTSTAMP:20170802T230529Z
DTSTART;TZID="New Zealand Standard Time":20171007T100000
LAST-MODIFIED:20170802T230529Z
LOCATION:Halsey St\, Karanga Plaza\, Wynyard Quarter\, Auckland Central
PRIORITY:5
SEQUENCE:0
SUMMARY;LANGUAGE=en-nz:A Celebration of the New Zealand Clinker Boat
TRANSP:OPAQUE
UID:040000008200E00074C5B7101A82E00800000000F0BD086B480CD301000000000000000
	01000000037385C37C5431047B0E8EF7BC65F41AD
X-ALT-DESC;FMTTYPE=text/html:<!DOCTYPE HTML PUBLIC "-//W3C//DTD HTML 3.2//E
	N">\n<HTML>\n<HEAD>\n<META NAME="Generator" CONTENT="MS Exchange Server ve
	rsion 14.02.5004.000">\n<TITLE></TITLE>\n</HEAD>\n<BODY>\n<!-- Converted f
	rom text/rtf format -->\n\n<P DIR=LTR><SPAN LANG="en-nz"></SPAN><SPAN LANG
	="en-nz"><FONT FACE="Arial">Classic clinkers play the starring role in thi
	s free classic yacht exhibition. Come along to see a hall of fame\, includ
	ing New Zealand's oldest clinker.</FONT></SPAN></P>\n\n<P DIR=LTR><SPAN LA
	NG="en-nz"></SPAN><A HREF="http://www.heritagefestival.co.nz/"><SPAN LANG=
	"en-nz"></SPAN><SPAN LANG="en-nz"><U><FONT COLOR="#0000FF" FACE="Arial">ht
	tp://www.heritagefestival.co.nz/</FONT></U></SPAN><SPAN LANG="en-nz"></SPA
	N></A><SPAN LANG="en-nz"></SPAN><SPAN LANG="en-nz"></SPAN></P>\n\n</BODY>\
	n</HTML>
X-MICROSOFT-CDO-BUSYSTATUS:BUSY
X-MICROSOFT-CDO-IMPORTANCE:1
X-MICROSOFT-DISALLOW-COUNTER:FALSE
X-MS-OLK-AUTOFILLLOCATION:FALSE
X-MS-OLK-CONFTYPE:0
BEGIN:VALARM
TRIGGER:-PT15M
ACTION:DISPLAY
DESCRIPTION:Reminder
END:VALARM
END:VEVENT
END:VCALENDAR
