BEGIN:VCALENDAR
PRODID:-//Microsoft Corporation//Outlook 14.0 MIMEDIR//EN
VERSION:2.0
METHOD:PUBLISH
X-MS-OLK-FORCEINSPECTOROPEN:TRUE
BEGIN:VTIMEZONE
TZID:New Zealand Standard Time
BEGIN:STANDARD
DTSTART:16010401T030000
RRULE:FREQ=YEARLY;BYDAY=1SU;BYMONTH=4
TZOFFSETFROM:+1300
TZOFFSETTO:+1200
END:STANDARD
BEGIN:DAYLIGHT
DTSTART:16010930T020000
RRULE:FREQ=YEARLY;BYDAY=-1SU;BYMONTH=9
TZOFFSETFROM:+1200
TZOFFSETTO:+1300
END:DAYLIGHT
END:VTIMEZONE
BEGIN:VEVENT
CLASS:PUBLIC
CREATED:20170803T022604Z
DESCRIPTION:Wednesday 4 October\, 5.30pm-7pm and Saturday 14 October\, 4pm-
	5.30pm\n\nAlbert Street and its surrounds provided for the needs of travel
	lers\, with churches\, pubs and toilets. This tour starts and ends at two 
	legendary pubs.\n\nhttp://www.heritagefestival.co.nz/\n\n
DTEND;TZID="New Zealand Standard Time":20171014T190000
DTSTAMP:20170803T022604Z
DTSTART;TZID="New Zealand Standard Time":20171004T160000
LAST-MODIFIED:20170803T022604Z
LOCATION:9-11 Durham Lane East\, The Bluestone Room\, Auckland Central
PRIORITY:5
SEQUENCE:0
SUMMARY;LANGUAGE=en-nz:Albert Street: Pubs\, Cathedral\, Toilets & the City
	 Well
TRANSP:OPAQUE
UID:040000008200E00074C5B7101A82E00800000000500B1270640CD301000000000000000
	010000000B7BB04AE51586E49B1492E541CCD25DD
X-ALT-DESC;FMTTYPE=text/html:<!DOCTYPE HTML PUBLIC "-//W3C//DTD HTML 3.2//E
	N">\n<HTML>\n<HEAD>\n<META NAME="Generator" CONTENT="MS Exchange Server ve
	rsion 14.02.5004.000">\n<TITLE></TITLE>\n</HEAD>\n<BODY>\n<!-- Converted f
	rom text/rtf format -->\n\n<P DIR=LTR><SPAN LANG="en-nz"></SPAN><SPAN LANG
	="en-nz"><FONT FACE="Arial">Wednesday 4 October\, 5.30pm-7pm and Saturday 
	14 October\, 4pm-5.30pm</FONT></SPAN><SPAN LANG="en-nz"></SPAN><SPAN LANG=
	"en-nz"></SPAN></P>\n\n<P DIR=LTR><SPAN LANG="en-nz"></SPAN><SPAN LANG="en
	-nz"></SPAN></P>\n\n<P DIR=LTR><SPAN LANG="en-nz"></SPAN><SPAN LANG="en-nz
	"><FONT FACE="Arial">Albert Street and its surrounds provided for the need
	s of travellers\, with churches\, pubs and toilets. This tour starts and e
	nds at two legendary pubs.</FONT></SPAN></P>\n\n<P DIR=LTR><SPAN LANG="en-
	nz"></SPAN><A HREF="http://www.heritagefestival.co.nz/"><SPAN LANG="en-nz"
	></SPAN><SPAN LANG="en-nz"><U><FONT COLOR="#0000FF" FACE="Arial">http://ww
	w.heritagefestival.co.nz/</FONT></U></SPAN><SPAN LANG="en-nz"></SPAN></A><
	SPAN LANG="en-nz"></SPAN><SPAN LANG="en-nz"></SPAN></P>\n\n<P DIR=LTR><SPA
	N LANG="en-nz"></SPAN><SPAN LANG="en-nz"></SPAN></P>\n\n</BODY>\n</HTML>
X-MICROSOFT-CDO-BUSYSTATUS:BUSY
X-MICROSOFT-CDO-IMPORTANCE:1
X-MICROSOFT-DISALLOW-COUNTER:FALSE
X-MS-OLK-AUTOFILLLOCATION:FALSE
X-MS-OLK-CONFTYPE:0
BEGIN:VALARM
TRIGGER:-PT15M
ACTION:DISPLAY
DESCRIPTION:Reminder
END:VALARM
END:VEVENT
END:VCALENDAR
