BEGIN:VCALENDAR
PRODID:-//Microsoft Corporation//Outlook 14.0 MIMEDIR//EN
VERSION:2.0
METHOD:PUBLISH
X-MS-OLK-FORCEINSPECTOROPEN:TRUE
BEGIN:VTIMEZONE
TZID:New Zealand Standard Time
BEGIN:STANDARD
DTSTART:16010401T030000
RRULE:FREQ=YEARLY;BYDAY=1SU;BYMONTH=4
TZOFFSETFROM:+1300
TZOFFSETTO:+1200
END:STANDARD
BEGIN:DAYLIGHT
DTSTART:16010930T020000
RRULE:FREQ=YEARLY;BYDAY=-1SU;BYMONTH=9
TZOFFSETFROM:+1200
TZOFFSETTO:+1300
END:DAYLIGHT
END:VTIMEZONE
BEGIN:VEVENT
CLASS:PUBLIC
CREATED:20170802T025055Z
DESCRIPTION:Wednesday 4 October 6pm-7pm\, Saturday 7 October 12.30pm-1.30pm
	\, Wednesday 11 October 12.30pm-1.30pm\n\nCome along to this talk by Allan
	 Matson about an outlook for our architectural heritage as it relates to A
	uckland's Unitary Plan.\n\nhttp://www.heritagefestival.co.nz/\n\n\n
DTEND;TZID="New Zealand Standard Time":20171011T190000
DTSTAMP:20170802T025055Z
DTSTART;TZID="New Zealand Standard Time":20171004T123000
LAST-MODIFIED:20170802T025055Z
LOCATION:Freyberg Place\, High Street\, Ellen Melville Centre
PRIORITY:5
SEQUENCE:0
SUMMARY;LANGUAGE=en-nz:Allan Matson Lecture
TRANSP:OPAQUE
UID:040000008200E00074C5B7101A82E0080000000000B1DEBE9E0BD301000000000000000
	010000000BB8090CE66E3EB4CAE02B88312BA8179
X-ALT-DESC;FMTTYPE=text/html:<!DOCTYPE HTML PUBLIC "-//W3C//DTD HTML 3.2//E
	N">\n<HTML>\n<HEAD>\n<META NAME="Generator" CONTENT="MS Exchange Server ve
	rsion 14.02.5004.000">\n<TITLE></TITLE>\n</HEAD>\n<BODY>\n<!-- Converted f
	rom text/rtf format -->\n\n<P DIR=LTR><SPAN LANG="en-nz"></SPAN><SPAN LANG
	="en-nz"><FONT FACE="Arial">Wednesday 4 October 6pm-7pm\, Saturday 7 Octob
	er 12.30pm-1.30pm\, Wednesday 11 October 12.30pm-1.30pm</FONT></SPAN><SPAN
	 LANG="en-nz"></SPAN><SPAN LANG="en-nz"></SPAN></P>\n\n<P DIR=LTR><SPAN LA
	NG="en-nz"></SPAN><SPAN LANG="en-nz"></SPAN></P>\n\n<P DIR=LTR><SPAN LANG=
	"en-nz"></SPAN><SPAN LANG="en-nz"><FONT FACE="Arial">Come along to this ta
	lk by Allan Matson about an outlook for our architectural heritage as it r
	elates to Auckland's Unitary Plan.</FONT></SPAN></P>\n\n<P DIR=LTR><SPAN L
	ANG="en-nz"></SPAN><A HREF="http://www.heritagefestival.co.nz/"><SPAN LANG
	="en-nz"></SPAN><SPAN LANG="en-nz"><U><FONT COLOR="#0000FF" FACE="Arial">h
	ttp://www.heritagefestival.co.nz/</FONT></U></SPAN><SPAN LANG="en-nz"></SP
	AN></A><SPAN LANG="en-nz"></SPAN><SPAN LANG="en-nz"></SPAN></P>\n\n<P DIR=
	LTR><SPAN LANG="en-nz"></SPAN><SPAN LANG="en-nz"></SPAN></P>\n\n<P DIR=LTR
	><SPAN LANG="en-nz"></SPAN><SPAN LANG="en-nz"></SPAN></P>\n\n</BODY>\n</HT
	ML>
X-MICROSOFT-CDO-BUSYSTATUS:BUSY
X-MICROSOFT-CDO-IMPORTANCE:1
X-MICROSOFT-DISALLOW-COUNTER:FALSE
X-MS-OLK-AUTOFILLLOCATION:FALSE
X-MS-OLK-CONFTYPE:0
BEGIN:VALARM
TRIGGER:-PT15M
ACTION:DISPLAY
DESCRIPTION:Reminder
END:VALARM
END:VEVENT
END:VCALENDAR
