BEGIN:VCALENDAR
PRODID:-//Microsoft Corporation//Outlook 14.0 MIMEDIR//EN
VERSION:2.0
METHOD:PUBLISH
X-MS-OLK-FORCEINSPECTOROPEN:TRUE
BEGIN:VTIMEZONE
TZID:New Zealand Standard Time
BEGIN:STANDARD
DTSTART:16010401T030000
RRULE:FREQ=YEARLY;BYDAY=1SU;BYMONTH=4
TZOFFSETFROM:+1300
TZOFFSETTO:+1200
END:STANDARD
BEGIN:DAYLIGHT
DTSTART:16010930T020000
RRULE:FREQ=YEARLY;BYDAY=-1SU;BYMONTH=9
TZOFFSETFROM:+1200
TZOFFSETTO:+1300
END:DAYLIGHT
END:VTIMEZONE
BEGIN:VEVENT
CLASS:PUBLIC
CREATED:20170803T024528Z
DESCRIPTION:Thursday 12 October and Saturday 14 October\, 6pm-8pm\n\nAin’
	t Misbehavin’?  Why Not? Enjoy our progressive swing serenade on Thursda
	y & Saturday evenings around the village\, passing by many of the restaura
	nts and pubs.\n\nhttp://www.heritagefestival.co.nz/\n\n
DTEND;TZID="New Zealand Standard Time":20171014T200000
DTSTAMP:20170803T024528Z
DTSTART;TZID="New Zealand Standard Time":20171012T180000
LAST-MODIFIED:20170803T024528Z
LOCATION:83 Birkenhead Avenue\, Meet at Good Home\, Birkenhead
PRIORITY:5
SEQUENCE:0
SUMMARY;LANGUAGE=en-nz:Beautiful Birkenhead: Horses\, Heritage and all that
	 Jazz! - Swing that Jazz
TRANSP:OPAQUE
UID:040000008200E00074C5B7101A82E00800000000603F5126670CD301000000000000000
	0100000009943A1E4C9D68847B398806B5B4BF225
X-ALT-DESC;FMTTYPE=text/html:<!DOCTYPE HTML PUBLIC "-//W3C//DTD HTML 3.2//E
	N">\n<HTML>\n<HEAD>\n<META NAME="Generator" CONTENT="MS Exchange Server ve
	rsion 14.02.5004.000">\n<TITLE></TITLE>\n</HEAD>\n<BODY>\n<!-- Converted f
	rom text/rtf format -->\n\n<P DIR=LTR><SPAN LANG="en-nz"></SPAN><SPAN LANG
	="en-nz"><FONT FACE="Arial">T</FONT></SPAN><SPAN LANG="en-nz"></SPAN><SPAN
	 LANG="en-nz"><FONT FACE="Arial">hursday 12 October and Saturday 14 Octobe
	r\, 6pm-8pm</FONT></SPAN></P>\n\n<P DIR=LTR><SPAN LANG="en-nz"><FONT FACE=
	"Arial">Ain’t Misbehavin’?&nbsp\; Why Not? Enjoy our progressive swing
	 serenade on Thursday &amp\; Saturday evenings around the village\, passin
	g by many of the restaurants and pubs.</FONT></SPAN></P>\n\n<P DIR=LTR><SP
	AN LANG="en-nz"></SPAN><A HREF="http://www.heritagefestival.co.nz/"><SPAN 
	LANG="en-nz"></SPAN><SPAN LANG="en-nz"><U><FONT COLOR="#0000FF" FACE="Aria
	l">http://www.heritagefestival.co.nz/</FONT></U></SPAN><SPAN LANG="en-nz">
	</SPAN></A><SPAN LANG="en-nz"></SPAN><SPAN LANG="en-nz"></SPAN></P>\n\n<P 
	DIR=LTR><SPAN LANG="en-nz"></SPAN><SPAN LANG="en-nz"></SPAN></P>\n\n</BODY
	>\n</HTML>
X-MICROSOFT-CDO-BUSYSTATUS:BUSY
X-MICROSOFT-CDO-IMPORTANCE:1
X-MICROSOFT-DISALLOW-COUNTER:FALSE
X-MS-OLK-AUTOFILLLOCATION:FALSE
X-MS-OLK-CONFTYPE:0
BEGIN:VALARM
TRIGGER:-PT15M
ACTION:DISPLAY
DESCRIPTION:Reminder
END:VALARM
END:VEVENT
END:VCALENDAR
