BEGIN:VCALENDAR
PRODID:-//Microsoft Corporation//Outlook 14.0 MIMEDIR//EN
VERSION:2.0
METHOD:PUBLISH
X-MS-OLK-FORCEINSPECTOROPEN:TRUE
BEGIN:VTIMEZONE
TZID:New Zealand Standard Time
BEGIN:STANDARD
DTSTART:16010401T030000
RRULE:FREQ=YEARLY;BYDAY=1SU;BYMONTH=4
TZOFFSETFROM:+1300
TZOFFSETTO:+1200
END:STANDARD
BEGIN:DAYLIGHT
DTSTART:16010930T020000
RRULE:FREQ=YEARLY;BYDAY=-1SU;BYMONTH=9
TZOFFSETFROM:+1200
TZOFFSETTO:+1300
END:DAYLIGHT
END:VTIMEZONE
BEGIN:VEVENT
CLASS:PUBLIC
CREATED:20170803T202829Z
DESCRIPTION:Wednesday 11 October and Friday 13 October\, 11am-noon\n\nJoin 
	us on the Highbury Heritage Guided Walk with a local historian\, who will 
	share secrets of this unique sugar village.\n\nhttp://www.heritagefestival
	.co.nz/\n\n
DTEND;TZID="New Zealand Standard Time":20171013T120000
DTSTAMP:20170803T202829Z
DTSTART;TZID="New Zealand Standard Time":20171011T110000
LAST-MODIFIED:20170803T202829Z
LOCATION:Corner of Rawene Road and Hinemoa Street\, Nell Fisher Reserve (Me
	et outside Birkenhead Library)\, Birkenhead
PRIORITY:5
SEQUENCE:0
SUMMARY;LANGUAGE=en-nz:Beautiful Birkenhead: Horses\, Heritage and all that
	 Jazz! - Highbury Heritage Guided Walk
TRANSP:OPAQUE
UID:040000008200E00074C5B7101A82E0080000000010D573A6FB0CD301000000000000000
	010000000BC9FCC368E46144E80AFB37BE86946EA
X-ALT-DESC;FMTTYPE=text/html:<!DOCTYPE HTML PUBLIC "-//W3C//DTD HTML 3.2//E
	N">\n<HTML>\n<HEAD>\n<META NAME="Generator" CONTENT="MS Exchange Server ve
	rsion 14.02.5004.000">\n<TITLE></TITLE>\n</HEAD>\n<BODY>\n<!-- Converted f
	rom text/rtf format -->\n\n<P DIR=LTR><SPAN LANG="en-nz"></SPAN><SPAN LANG
	="en-nz"><FONT FACE="Arial">Wednesday 11 October and Friday 13 October\, 1
	1am-noon</FONT></SPAN><SPAN LANG="en-nz"></SPAN><SPAN LANG="en-nz"></SPAN>
	</P>\n\n<P DIR=LTR><SPAN LANG="en-nz"></SPAN><SPAN LANG="en-nz"><FONT FACE
	="Arial">Join us on the Highbury Heritage Guided Walk with a local histori
	an\, who will share secrets of this unique sugar village.</FONT></SPAN></P
	>\n\n<P DIR=LTR><SPAN LANG="en-nz"></SPAN><A HREF="http://www.heritagefest
	ival.co.nz/"><SPAN LANG="en-nz"></SPAN><SPAN LANG="en-nz"><U><FONT COLOR="
	#0000FF" FACE="Arial">http://www.heritagefestival.co.nz/</FONT></U></SPAN>
	<SPAN LANG="en-nz"></SPAN></A><SPAN LANG="en-nz"></SPAN><SPAN LANG="en-nz"
	></SPAN></P>\n\n<P DIR=LTR><SPAN LANG="en-nz"></SPAN><SPAN LANG="en-nz"></
	SPAN></P>\n\n</BODY>\n</HTML>
X-MICROSOFT-CDO-BUSYSTATUS:BUSY
X-MICROSOFT-CDO-IMPORTANCE:1
X-MICROSOFT-DISALLOW-COUNTER:FALSE
X-MS-OLK-AUTOFILLLOCATION:FALSE
X-MS-OLK-CONFTYPE:0
BEGIN:VALARM
TRIGGER:-PT15M
ACTION:DISPLAY
DESCRIPTION:Reminder
END:VALARM
END:VEVENT
END:VCALENDAR
