BEGIN:VCALENDAR
PRODID:-//Microsoft Corporation//Outlook 14.0 MIMEDIR//EN
VERSION:2.0
METHOD:PUBLISH
X-MS-OLK-FORCEINSPECTOROPEN:TRUE
BEGIN:VTIMEZONE
TZID:New Zealand Standard Time
BEGIN:STANDARD
DTSTART:16010401T030000
RRULE:FREQ=YEARLY;BYDAY=1SU;BYMONTH=4
TZOFFSETFROM:+1300
TZOFFSETTO:+1200
END:STANDARD
BEGIN:DAYLIGHT
DTSTART:16010930T020000
RRULE:FREQ=YEARLY;BYDAY=-1SU;BYMONTH=9
TZOFFSETFROM:+1200
TZOFFSETTO:+1300
END:DAYLIGHT
END:VTIMEZONE
BEGIN:VEVENT
CLASS:PUBLIC
CREATED:20170803T024914Z
DESCRIPTION:Friday 13 October\, 10am-4.30pm and Saturday 14 October\, 10am-
	 4pm\n\nDiscover collectables galore in Highbury’s selection of op shops
	. Be serenaded by vintage jazz as you shop between 11am-2pm.\n\nhttp://www
	.heritagefestival.co.nz/\n\n\n\n
DTEND;TZID="New Zealand Standard Time":20171014T163000
DTSTAMP:20170803T024914Z
DTSTART;TZID="New Zealand Standard Time":20171013T100000
LAST-MODIFIED:20170803T024914Z
LOCATION:Village Wide\, Birkenhead
PRIORITY:5
SEQUENCE:0
SUMMARY;LANGUAGE=en-nz:Beautiful Birkenhead: Horses\, Heritage and all that
	 Jazz! -  Op Shop Hop!
TRANSP:OPAQUE
UID:040000008200E00074C5B7101A82E00800000000507BC6AC670CD301000000000000000
	010000000DC9A213A47386F4AB635434C40F34344
X-ALT-DESC;FMTTYPE=text/html:<!DOCTYPE HTML PUBLIC "-//W3C//DTD HTML 3.2//E
	N">\n<HTML>\n<HEAD>\n<META NAME="Generator" CONTENT="MS Exchange Server ve
	rsion 14.02.5004.000">\n<TITLE></TITLE>\n</HEAD>\n<BODY>\n<!-- Converted f
	rom text/rtf format -->\n\n<P DIR=LTR><SPAN LANG="en-nz"></SPAN><SPAN LANG
	="en-nz"><FONT FACE="Arial">Friday 13 October\, 10am-4.30pm and Saturday 1
	4 October\, 10am- 4pm</FONT></SPAN></P>\n\n<P DIR=LTR><SPAN LANG="en-nz"><
	FONT FACE="Arial">Discover collectables galore in Highbury’s selection o
	f op shops. Be serenaded by vintage jazz as you shop between 11am-2pm.</FO
	NT></SPAN></P>\n\n<P DIR=LTR><SPAN LANG="en-nz"></SPAN><A HREF="http://www
	.heritagefestival.co.nz/"><SPAN LANG="en-nz"></SPAN><SPAN LANG="en-nz"><U>
	<FONT COLOR="#0000FF" FACE="Arial">http://www.heritagefestival.co.nz/</FON
	T></U></SPAN><SPAN LANG="en-nz"></SPAN></A><SPAN LANG="en-nz"></SPAN><SPAN
	 LANG="en-nz"></SPAN></P>\n\n<P DIR=LTR><SPAN LANG="en-nz"></SPAN><SPAN LA
	NG="en-nz"></SPAN></P>\n\n<P DIR=LTR><SPAN LANG="en-nz"></SPAN><SPAN LANG=
	"en-nz"></SPAN></P>\n\n</BODY>\n</HTML>
X-MICROSOFT-CDO-BUSYSTATUS:BUSY
X-MICROSOFT-CDO-IMPORTANCE:1
X-MICROSOFT-DISALLOW-COUNTER:FALSE
X-MS-OLK-AUTOFILLLOCATION:FALSE
X-MS-OLK-CONFTYPE:0
BEGIN:VALARM
TRIGGER:-PT15M
ACTION:DISPLAY
DESCRIPTION:Reminder
END:VALARM
END:VEVENT
END:VCALENDAR
