BEGIN:VCALENDAR
PRODID:-//Microsoft Corporation//Outlook 14.0 MIMEDIR//EN
VERSION:2.0
METHOD:PUBLISH
X-MS-OLK-FORCEINSPECTOROPEN:TRUE
BEGIN:VTIMEZONE
TZID:New Zealand Standard Time
BEGIN:STANDARD
DTSTART:16010401T030000
RRULE:FREQ=YEARLY;BYDAY=1SU;BYMONTH=4
TZOFFSETFROM:+1300
TZOFFSETTO:+1200
END:STANDARD
BEGIN:DAYLIGHT
DTSTART:16010930T020000
RRULE:FREQ=YEARLY;BYDAY=-1SU;BYMONTH=9
TZOFFSETFROM:+1200
TZOFFSETTO:+1300
END:DAYLIGHT
END:VTIMEZONE
BEGIN:VEVENT
CLASS:PUBLIC
CREATED:20170803T203529Z
DESCRIPTION:Wednesday 11 October and Friday 13 October\, 1.30pm-3pm\n\nExpl
	ore the secrets of a sugar town. Join our local guide on this walk to the 
	sugar factory\, past workers cottages and through lush parks.\n\nhttp://ww
	w.heritagefestival.co.nz/\n\n\n
DTEND;TZID="New Zealand Standard Time":20171013T150000
DTSTAMP:20170803T203529Z
DTSTART;TZID="New Zealand Standard Time":20171011T133000
LAST-MODIFIED:20170803T203529Z
LOCATION:Corner of Rawene Road and Hinemoa Street\, Nell Fisher Reserve (Me
	et outside Birkenhead Library)\, Birkenhead
PRIORITY:5
SEQUENCE:0
SUMMARY;LANGUAGE=en-nz:Beautiful Birkenhead: Horses\, Heritage and all that
	 Jazz! - Original Sugar Workers Guided Walk
TRANSP:OPAQUE
UID:040000008200E00074C5B7101A82E00800000000908F06A1FC0CD301000000000000000
	0100000005F7BBAB528DBA04C9737204B5E75622B
X-ALT-DESC;FMTTYPE=text/html:<!DOCTYPE HTML PUBLIC "-//W3C//DTD HTML 3.2//E
	N">\n<HTML>\n<HEAD>\n<META NAME="Generator" CONTENT="MS Exchange Server ve
	rsion 14.02.5004.000">\n<TITLE></TITLE>\n</HEAD>\n<BODY>\n<!-- Converted f
	rom text/rtf format -->\n\n<P DIR=LTR><SPAN LANG="en-nz"></SPAN><SPAN LANG
	="en-nz"><FONT FACE="Arial">Wednesday 11 October</FONT></SPAN><SPAN LANG="
	en-nz"></SPAN><SPAN LANG="en-nz"> <FONT FACE="Arial">and</FONT></SPAN><SPA
	N LANG="en-nz"></SPAN><SPAN LANG="en-nz"><FONT FACE="Arial"> Friday 13 Oct
	ober\, 1.30pm-3pm</FONT></SPAN></P>\n\n<P DIR=LTR><SPAN LANG="en-nz"><FONT
	 FACE="Arial">Explore the secrets of a sugar town. Join our local guide on
	 this walk to the sugar factory\, past workers cottages and through lush p
	arks.</FONT></SPAN></P>\n\n<P DIR=LTR><SPAN LANG="en-nz"></SPAN><A HREF="h
	ttp://www.heritagefestival.co.nz/"><SPAN LANG="en-nz"></SPAN><SPAN LANG="e
	n-nz"><U><FONT COLOR="#0000FF" FACE="Arial">http://www.heritagefestival.co
	.nz/</FONT></U></SPAN><SPAN LANG="en-nz"></SPAN></A><SPAN LANG="en-nz"></S
	PAN><SPAN LANG="en-nz"></SPAN></P>\n\n<P DIR=LTR><SPAN LANG="en-nz"></SPAN
	><SPAN LANG="en-nz"></SPAN></P>\n\n<P DIR=LTR><SPAN LANG="en-nz"></SPAN><S
	PAN LANG="en-nz"></SPAN></P>\n\n</BODY>\n</HTML>
X-MICROSOFT-CDO-BUSYSTATUS:BUSY
X-MICROSOFT-CDO-IMPORTANCE:1
X-MICROSOFT-DISALLOW-COUNTER:FALSE
X-MS-OLK-AUTOFILLLOCATION:FALSE
X-MS-OLK-CONFTYPE:0
BEGIN:VALARM
TRIGGER:-PT15M
ACTION:DISPLAY
DESCRIPTION:Reminder
END:VALARM
END:VEVENT
END:VCALENDAR
