BEGIN:VCALENDAR
PRODID:-//Microsoft Corporation//Outlook 14.0 MIMEDIR//EN
VERSION:2.0
METHOD:PUBLISH
X-MS-OLK-FORCEINSPECTOROPEN:TRUE
BEGIN:VTIMEZONE
TZID:New Zealand Standard Time
BEGIN:STANDARD
DTSTART:16010401T030000
RRULE:FREQ=YEARLY;BYDAY=1SU;BYMONTH=4
TZOFFSETFROM:+1300
TZOFFSETTO:+1200
END:STANDARD
BEGIN:DAYLIGHT
DTSTART:16010930T020000
RRULE:FREQ=YEARLY;BYDAY=-1SU;BYMONTH=9
TZOFFSETFROM:+1200
TZOFFSETTO:+1300
END:DAYLIGHT
END:VTIMEZONE
BEGIN:VEVENT
CLASS:PUBLIC
CREATED:20170803T202512Z
DESCRIPTION:Celebrate the handover in 1927 from horse to horsepower with a 
	vintage car and jazz music display in Birkenhead Village.\n\nhttp://www.he
	ritagefestival.co.nz/\n
DTEND;TZID="New Zealand Standard Time":20171014T140000
DTSTAMP:20170803T202512Z
DTSTART;TZID="New Zealand Standard Time":20171014T110000
LAST-MODIFIED:20170803T202512Z
LOCATION:Corner of Rawene Road and Hinemoa Street\, Nell Fisher Reserve\, B
	irkenhead
PRIORITY:5
SEQUENCE:0
SUMMARY;LANGUAGE=en-nz:Beautiful Birkenhead: Horses\, Heritage and all that
	 Jazz! - Vintage Car & Jazz Music
TRANSP:OPAQUE
UID:040000008200E00074C5B7101A82E0080000000000365731FB0CD301000000000000000
	010000000E5A12B897931E843AF228B2FC39510D0
X-ALT-DESC;FMTTYPE=text/html:<!DOCTYPE HTML PUBLIC "-//W3C//DTD HTML 3.2//E
	N">\n<HTML>\n<HEAD>\n<META NAME="Generator" CONTENT="MS Exchange Server ve
	rsion 14.02.5004.000">\n<TITLE></TITLE>\n</HEAD>\n<BODY>\n<!-- Converted f
	rom text/rtf format -->\n\n<P DIR=LTR><SPAN LANG="en-nz"></SPAN><SPAN LANG
	="en-nz"><FONT FACE="Arial">Celebrate the handover in 1927 from horse to h
	orsepower with a vintage car and jazz music display in Birkenhead Village.
	</FONT></SPAN></P>\n\n<P DIR=LTR><SPAN LANG="en-nz"></SPAN><A HREF="http:/
	/www.heritagefestival.co.nz/"><SPAN LANG="en-nz"></SPAN><SPAN LANG="en-nz"
	><U><FONT COLOR="#0000FF" FACE="Arial">http://www.heritagefestival.co.nz/<
	/FONT></U></SPAN><SPAN LANG="en-nz"></SPAN></A><SPAN LANG="en-nz"></SPAN><
	SPAN LANG="en-nz"></SPAN></P>\n\n</BODY>\n</HTML>
X-MICROSOFT-CDO-BUSYSTATUS:BUSY
X-MICROSOFT-CDO-IMPORTANCE:1
X-MICROSOFT-DISALLOW-COUNTER:FALSE
X-MS-OLK-AUTOFILLLOCATION:FALSE
X-MS-OLK-CONFTYPE:0
BEGIN:VALARM
TRIGGER:-PT15M
ACTION:DISPLAY
DESCRIPTION:Reminder
END:VALARM
END:VEVENT
END:VCALENDAR
