BEGIN:VCALENDAR
PRODID:-//Microsoft Corporation//Outlook 14.0 MIMEDIR//EN
VERSION:2.0
METHOD:PUBLISH
X-MS-OLK-FORCEINSPECTOROPEN:TRUE
BEGIN:VTIMEZONE
TZID:New Zealand Standard Time
BEGIN:STANDARD
DTSTART:16010401T030000
RRULE:FREQ=YEARLY;BYDAY=1SU;BYMONTH=4
TZOFFSETFROM:+1300
TZOFFSETTO:+1200
END:STANDARD
BEGIN:DAYLIGHT
DTSTART:16010930T020000
RRULE:FREQ=YEARLY;BYDAY=-1SU;BYMONTH=9
TZOFFSETFROM:+1200
TZOFFSETTO:+1300
END:DAYLIGHT
END:VTIMEZONE
BEGIN:VEVENT
CLASS:PUBLIC
CREATED:20170915T005029Z
DESCRIPTION:Join us for a rare opportunity to go behind the scenes at the A
	uckland Art Gallery and visit the painting\, paper and object conservation
	 laboratories.\n
DTEND;TZID="New Zealand Standard Time":20171011T143000
DTSTAMP:20170915T005029Z
DTSTART;TZID="New Zealand Standard Time":20171011T103000
LAST-MODIFIED:20170915T005029Z
LOCATION:Auckland Art Gallery Toi o Tāmaki\, corner of Kitchener Street an
	d Wellesley Street\, Auckland Central
PRIORITY:5
SEQUENCE:0
SUMMARY;LANGUAGE=en-nz:Behind the scenes tour – conservation
TRANSP:OPAQUE
UID:040000008200E00074C5B7101A82E00800000000705DE735212ED301000000000000000
	0100000002D80130A0DF5BD4895E87369D70FDF1E
X-ALT-DESC;FMTTYPE=text/html:<!DOCTYPE HTML PUBLIC "-//W3C//DTD HTML 3.2//E
	N">\n<HTML>\n<HEAD>\n<META NAME="Generator" CONTENT="MS Exchange Server ve
	rsion 14.02.5004.000">\n<TITLE></TITLE>\n</HEAD>\n<BODY>\n<!-- Converted f
	rom text/rtf format -->\n\n<P DIR=LTR><SPAN LANG="en-nz"></SPAN><SPAN LANG
	="en-nz"><FONT FACE="Arial">Join us for a rare opportunity to go behind th
	e scenes at the Auckland Art Gallery and visit the painting\, paper and ob
	ject conservation laboratories.</FONT></SPAN><SPAN LANG="en-nz"></SPAN><SP
	AN LANG="en-nz"></SPAN></P>\n\n</BODY>\n</HTML>
X-MICROSOFT-CDO-BUSYSTATUS:BUSY
X-MICROSOFT-CDO-IMPORTANCE:1
X-MICROSOFT-DISALLOW-COUNTER:FALSE
X-MS-OLK-AUTOFILLLOCATION:FALSE
X-MS-OLK-CONFTYPE:0
BEGIN:VALARM
TRIGGER:-PT15M
ACTION:DISPLAY
DESCRIPTION:Reminder
END:VALARM
END:VEVENT
END:VCALENDAR
