BEGIN:VCALENDAR
PRODID:-//Microsoft Corporation//Outlook 14.0 MIMEDIR//EN
VERSION:2.0
METHOD:PUBLISH
X-MS-OLK-FORCEINSPECTOROPEN:TRUE
BEGIN:VTIMEZONE
TZID:New Zealand Standard Time
BEGIN:STANDARD
DTSTART:16010401T030000
RRULE:FREQ=YEARLY;BYDAY=1SU;BYMONTH=4
TZOFFSETFROM:+1300
TZOFFSETTO:+1200
END:STANDARD
BEGIN:DAYLIGHT
DTSTART:16010930T020000
RRULE:FREQ=YEARLY;BYDAY=-1SU;BYMONTH=9
TZOFFSETFROM:+1200
TZOFFSETTO:+1300
END:DAYLIGHT
END:VTIMEZONE
BEGIN:VEVENT
CLASS:PUBLIC
CREATED:20170801T210838Z
DESCRIPTION:Saturday 30 September - Sunday 15 October\, Wednesday - Sunday 
	10.30am-4.30pm\n\nDiscover the heart and 'sole' of the footwear business t
	hrough the history of five footwear families. A must for lovers of shoes!\
	n\nhttp://www.heritagefestival.co.nz/\n\n
DTEND;TZID="New Zealand Standard Time":20171015T163000
DTSTAMP:20170801T210838Z
DTSTART;TZID="New Zealand Standard Time":20170930T103000
LAST-MODIFIED:20170801T210838Z
LOCATION:Mortimer Pass\, Highwic\, Newmarket
PRIORITY:5
SEQUENCE:0
SUMMARY;LANGUAGE=en-nz:Celebrating Shoes
TRANSP:OPAQUE
UID:040000008200E00074C5B7101A82E008000000005084D0ED6E0BD301000000000000000
	010000000DB8ED25FD51AAD4095CFD48B35DA9067
X-ALT-DESC;FMTTYPE=text/html:<!DOCTYPE HTML PUBLIC "-//W3C//DTD HTML 3.2//E
	N">\n<HTML>\n<HEAD>\n<META NAME="Generator" CONTENT="MS Exchange Server ve
	rsion 14.02.5004.000">\n<TITLE></TITLE>\n</HEAD>\n<BODY>\n<!-- Converted f
	rom text/rtf format -->\n\n<P DIR=LTR><SPAN LANG="en-nz"></SPAN><SPAN LANG
	="en-nz"><FONT FACE="Arial">Saturday 30 September - Sunday 15 October\, We
	dnesday - Sunday 10.30am-4.30pm</FONT></SPAN></P>\n\n<P DIR=LTR><SPAN LANG
	="en-nz"><FONT FACE="Arial">Discover the heart and 'sole' of the footwear 
	business through the history of five footwear families. A must for lovers 
	of shoes!</FONT></SPAN></P>\n\n<P DIR=LTR><SPAN LANG="en-nz"></SPAN><A HRE
	F="http://www.heritagefestival.co.nz/"><SPAN LANG="en-nz"></SPAN><SPAN LAN
	G="en-nz"><U><FONT COLOR="#0000FF" FACE="Arial">http://www.heritagefestiva
	l.co.nz/</FONT></U></SPAN><SPAN LANG="en-nz"></SPAN></A><SPAN LANG="en-nz"
	></SPAN><SPAN LANG="en-nz"></SPAN></P>\n\n<P DIR=LTR><SPAN LANG="en-nz"></
	SPAN><SPAN LANG="en-nz"></SPAN></P>\n\n</BODY>\n</HTML>
X-MICROSOFT-CDO-BUSYSTATUS:BUSY
X-MICROSOFT-CDO-IMPORTANCE:1
X-MICROSOFT-DISALLOW-COUNTER:FALSE
X-MS-OLK-AUTOFILLLOCATION:FALSE
X-MS-OLK-CONFTYPE:0
BEGIN:VALARM
TRIGGER:-PT15M
ACTION:DISPLAY
DESCRIPTION:Reminder
END:VALARM
END:VEVENT
END:VCALENDAR
