BEGIN:VCALENDAR
PRODID:-//Microsoft Corporation//Outlook 14.0 MIMEDIR//EN
VERSION:2.0
METHOD:PUBLISH
X-MS-OLK-FORCEINSPECTOROPEN:TRUE
BEGIN:VTIMEZONE
TZID:New Zealand Standard Time
BEGIN:STANDARD
DTSTART:16010401T030000
RRULE:FREQ=YEARLY;BYDAY=1SU;BYMONTH=4
TZOFFSETFROM:+1300
TZOFFSETTO:+1200
END:STANDARD
BEGIN:DAYLIGHT
DTSTART:16010930T020000
RRULE:FREQ=YEARLY;BYDAY=-1SU;BYMONTH=9
TZOFFSETFROM:+1200
TZOFFSETTO:+1300
END:DAYLIGHT
END:VTIMEZONE
BEGIN:VEVENT
CLASS:PUBLIC
CREATED:20170915T002957Z
DESCRIPTION:See three of Charlie Chaplin’s black and white silent movies 
	on the big screen at the historic Mercury Theatre in Newton - one of New Z
	ealand's oldest theatres.\n\nhttp://www.heritagefestival.co.nz/\n\n\n\n\n
DTEND;TZID="New Zealand Standard Time":20171001T210000
DTSTAMP:20170915T002958Z
DTSTART;TZID="New Zealand Standard Time":20170930T183000
LAST-MODIFIED:20170915T002957Z
LOCATION:9 Mercury Lane\, Newton\, Mercury Theatre
PRIORITY:5
SEQUENCE:0
SUMMARY;LANGUAGE=en-nz:Chaplin at the Mercury
TRANSP:OPAQUE
UID:040000008200E00074C5B7101A82E0080000000000F6BD571E2ED301000000000000000
	010000000A5353BAA039ED4469AB9931BC164E29A
X-ALT-DESC;FMTTYPE=text/html:<!DOCTYPE HTML PUBLIC "-//W3C//DTD HTML 3.2//E
	N">\n<HTML>\n<HEAD>\n<META NAME="Generator" CONTENT="MS Exchange Server ve
	rsion 14.02.5004.000">\n<TITLE></TITLE>\n</HEAD>\n<BODY>\n<!-- Converted f
	rom text/rtf format -->\n\n<P DIR=LTR><SPAN LANG="en-nz"></SPAN><SPAN LANG
	="en-nz"><FONT FACE="Arial">See three of Charlie Chaplin’s black and whi
	te silent movies on the big screen at the historic Mercury Theatre in Newt
	on - one of New Zealand's oldest theatres.</FONT></SPAN><SPAN LANG="en-nz"
	></SPAN><SPAN LANG="en-nz"></SPAN></P>\n\n<P DIR=LTR><SPAN LANG="en-nz"></
	SPAN><SPAN LANG="en-nz"></SPAN></P>\n\n<P DIR=LTR><SPAN LANG="en-nz"></SPA
	N><A HREF="http://www.heritagefestival.co.nz/"><SPAN LANG="en-nz"></SPAN><
	SPAN LANG="en-nz"><U><FONT COLOR="#0000FF" FACE="Arial">http://www.heritag
	efestival.co.nz/</FONT></U></SPAN><SPAN LANG="en-nz"></SPAN></A><SPAN LANG
	="en-nz"></SPAN><SPAN LANG="en-nz"></SPAN></P>\n\n<P DIR=LTR><SPAN LANG="e
	n-nz"></SPAN><SPAN LANG="en-nz"></SPAN></P>\n\n<P DIR=LTR><SPAN LANG="en-n
	z"></SPAN><SPAN LANG="en-nz"></SPAN></P>\n\n<P DIR=LTR><SPAN LANG="en-nz">
	</SPAN><SPAN LANG="en-nz"></SPAN></P>\n\n</BODY>\n</HTML>
X-MICROSOFT-CDO-BUSYSTATUS:BUSY
X-MICROSOFT-CDO-IMPORTANCE:1
X-MICROSOFT-DISALLOW-COUNTER:FALSE
X-MS-OLK-AUTOFILLLOCATION:FALSE
X-MS-OLK-CONFTYPE:0
BEGIN:VALARM
TRIGGER:-PT15M
ACTION:DISPLAY
DESCRIPTION:Reminder
END:VALARM
END:VEVENT
END:VCALENDAR
