BEGIN:VCALENDAR
PRODID:-//Microsoft Corporation//Outlook 14.0 MIMEDIR//EN
VERSION:2.0
METHOD:PUBLISH
X-MS-OLK-FORCEINSPECTOROPEN:TRUE
BEGIN:VTIMEZONE
TZID:New Zealand Standard Time
BEGIN:STANDARD
DTSTART:16010401T030000
RRULE:FREQ=YEARLY;BYDAY=1SU;BYMONTH=4
TZOFFSETFROM:+1300
TZOFFSETTO:+1200
END:STANDARD
BEGIN:DAYLIGHT
DTSTART:16010930T020000
RRULE:FREQ=YEARLY;BYDAY=-1SU;BYMONTH=9
TZOFFSETFROM:+1200
TZOFFSETTO:+1300
END:DAYLIGHT
END:VTIMEZONE
BEGIN:VEVENT
CLASS:PUBLIC
CREATED:20170801T042023Z
DESCRIPTION:Saturday 30 September - Saturday 14 October\, Wednesday - Sunda
	y noon-3pm\n\nDrawing on the Victorian period photographs and watercolours
	 of John Kinder and other artists of the time\, early scenes of different 
	modes of Auckland transport will be on display - including a miniature mod
	el train set up!\n\nhttp://www.heritagefestival.co.nz/\n\n\n\n
DTEND;TZID="New Zealand Standard Time":20171014T150000
DTSTAMP:20170801T042023Z
DTSTART;TZID="New Zealand Standard Time":20171007T120000
LAST-MODIFIED:20170801T042023Z
LOCATION:2 Ayr Street\, Kinder House\, Parnell
PRIORITY:5
SEQUENCE:0
SUMMARY;LANGUAGE=en-nz:Colonial Victorian Transport Photographs and Drawing
	s of Auckland
TRANSP:OPAQUE
UID:040000008200E00074C5B7101A82E00800000000C03E0314E20AD301000000000000000
	010000000B78EDC140539FE4EA68F6AC8909B181D
X-ALT-DESC;FMTTYPE=text/html:<!DOCTYPE HTML PUBLIC "-//W3C//DTD HTML 3.2//E
	N">\n<HTML>\n<HEAD>\n<META NAME="Generator" CONTENT="MS Exchange Server ve
	rsion 14.02.5004.000">\n<TITLE></TITLE>\n</HEAD>\n<BODY>\n<!-- Converted f
	rom text/rtf format -->\n\n<P DIR=LTR><SPAN LANG="en-nz"></SPAN><SPAN LANG
	="en-nz"><FONT FACE="Arial">Saturday 30 September - Saturday 14 October\, 
	Wednesday - Sunday noon-3pm</FONT></SPAN></P>\n\n<P DIR=LTR><SPAN LANG="en
	-nz"><FONT FACE="Arial">Drawing on the Victorian period photographs and wa
	tercolours of John Kinder and other artists of the time\, early scenes of 
	different modes of Auckland transport will be on display - including a min
	iature model train set up!</FONT></SPAN></P>\n\n<P DIR=LTR><SPAN LANG="en-
	nz"></SPAN><A HREF="http://www.heritagefestival.co.nz/"><SPAN LANG="en-nz"
	></SPAN><SPAN LANG="en-nz"><U><FONT COLOR="#0000FF" FACE="Arial">http://ww
	w.heritagefestival.co.nz/</FONT></U></SPAN><SPAN LANG="en-nz"></SPAN></A><
	SPAN LANG="en-nz"></SPAN><SPAN LANG="en-nz"></SPAN></P>\n\n<P DIR=LTR><SPA
	N LANG="en-nz"></SPAN><SPAN LANG="en-nz"></SPAN></P>\n\n<P DIR=LTR><SPAN L
	ANG="en-nz"></SPAN><SPAN LANG="en-nz"></SPAN></P>\n\n</BODY>\n</HTML>
X-MICROSOFT-CDO-BUSYSTATUS:BUSY
X-MICROSOFT-CDO-IMPORTANCE:1
X-MICROSOFT-DISALLOW-COUNTER:FALSE
X-MS-OLK-AUTOFILLLOCATION:FALSE
X-MS-OLK-CONFTYPE:0
BEGIN:VALARM
TRIGGER:-PT15M
ACTION:DISPLAY
DESCRIPTION:Reminder
END:VALARM
END:VEVENT
END:VCALENDAR
