BEGIN:VCALENDAR
PRODID:-//Microsoft Corporation//Outlook 14.0 MIMEDIR//EN
VERSION:2.0
METHOD:PUBLISH
X-MS-OLK-FORCEINSPECTOROPEN:TRUE
BEGIN:VTIMEZONE
TZID:New Zealand Standard Time
BEGIN:STANDARD
DTSTART:16010401T030000
RRULE:FREQ=YEARLY;BYDAY=1SU;BYMONTH=4
TZOFFSETFROM:+1300
TZOFFSETTO:+1200
END:STANDARD
BEGIN:DAYLIGHT
DTSTART:16010930T020000
RRULE:FREQ=YEARLY;BYDAY=-1SU;BYMONTH=9
TZOFFSETFROM:+1200
TZOFFSETTO:+1300
END:DAYLIGHT
END:VTIMEZONE
BEGIN:VEVENT
CLASS:PUBLIC
CREATED:20170929T042826Z
DESCRIPTION:http://www.heritagefestival.co.nz/\n\n
DTEND;TZID="New Zealand Standard Time":20171004T103000
DTSTAMP:20170928T194212Z
DTSTART;TZID="New Zealand Standard Time":20171004T090000
LAST-MODIFIED:20170929T042826Z
LOCATION:The University of Auckland\, Faculty of Education and Social Work\
	, Music Auditorium\, B Block\, Gate 3\, 74 Epsom Avenue\, Mt Eden
PRIORITY:5
SEQUENCE:0
SUMMARY;LANGUAGE=en-nz:Commemoration of the life and achievements of Lieute
	nant Herbert Milnes
TRANSP:OPAQUE
UID:040000008200E00074C5B7101A82E00800000000B0AC04D8FE38D301000000000000000
	0100000006490D31F2F5B124D8A968C93E75FEA26
X-ALT-DESC;FMTTYPE=text/html:<!DOCTYPE HTML PUBLIC "-//W3C//DTD HTML 3.2//E
	N">\n<HTML>\n<HEAD>\n<META NAME="Generator" CONTENT="MS Exchange Server ve
	rsion 14.02.5004.000">\n<TITLE></TITLE>\n</HEAD>\n<BODY>\n<!-- Converted f
	rom text/rtf format -->\n\n<P DIR=LTR><SPAN LANG="en-nz"></SPAN><SPAN LANG
	="en-nz"></SPAN><SPAN LANG="en-nz"><FONT FACE="Arial">On Wednesday 4 Octob
	er 2017\, join the Dean of Education and Social Work and colleagues in com
	memorating the life and achievements of Lieutenant Herbert Milnes\, the fi
	rst dean of what is now the Faculty of Education and Social Work</FONT></S
	PAN><SPAN LANG="en-nz"></SPAN><SPAN LANG="en-nz"></SPAN><SPAN LANG="en-nz"
	><FONT FACE="Arial">.</FONT></SPAN><SPAN LANG="en-nz"></SPAN><SPAN LANG="e
	n-nz"></SPAN><SPAN LANG="en-nz"></SPAN></P>\n\n<P DIR=LTR><SPAN LANG="en-n
	z"></SPAN><SPAN LANG="en-nz"></SPAN><SPAN LANG="en-nz"></SPAN></P>\n\n<P D
	IR=LTR><SPAN LANG="en-nz"></SPAN><A HREF="http://www.heritagefestival.co.n
	z/"><SPAN LANG="en-nz"></SPAN><SPAN LANG="en-nz"></SPAN><SPAN LANG="en-nz"
	><U><FONT COLOR="#0000FF" FACE="Arial">http://www.heritagefestival.co.nz/<
	/FONT></U></SPAN><SPAN LANG="en-nz"></SPAN></A><SPAN LANG="en-nz"></SPAN><
	SPAN LANG="en-nz"></SPAN><SPAN LANG="en-nz"></SPAN></P>\n\n</BODY>\n</HTML
	>
X-MICROSOFT-CDO-BUSYSTATUS:BUSY
X-MICROSOFT-CDO-IMPORTANCE:1
X-MICROSOFT-DISALLOW-COUNTER:FALSE
X-MS-OLK-AUTOFILLLOCATION:FALSE
X-MS-OLK-CONFTYPE:0
BEGIN:VALARM
TRIGGER:-PT15M
ACTION:DISPLAY
DESCRIPTION:Reminder
END:VALARM
END:VEVENT
END:VCALENDAR
