BEGIN:VCALENDAR
PRODID:-//Microsoft Corporation//Outlook 14.0 MIMEDIR//EN
VERSION:2.0
METHOD:PUBLISH
X-MS-OLK-FORCEINSPECTOROPEN:TRUE
BEGIN:VTIMEZONE
TZID:New Zealand Standard Time
BEGIN:STANDARD
DTSTART:16010401T030000
RRULE:FREQ=YEARLY;BYDAY=1SU;BYMONTH=4
TZOFFSETFROM:+1300
TZOFFSETTO:+1200
END:STANDARD
BEGIN:DAYLIGHT
DTSTART:16010930T020000
RRULE:FREQ=YEARLY;BYDAY=-1SU;BYMONTH=9
TZOFFSETFROM:+1200
TZOFFSETTO:+1300
END:DAYLIGHT
END:VTIMEZONE
BEGIN:VEVENT
CLASS:PUBLIC
CREATED:20170727T204219Z
DESCRIPTION:Presenter Raewynn Robertson will show photos and talk about the
	 vibrant and hard-working Dalmatian immigrants who settled in West Aucklan
	d in the early twentieth century.\n\nwww.heritagefestival.co.nz/\n\n\n
DTEND;TZID="New Zealand Standard Time":20171004T130000
DTSTAMP:20170727T204219Z
DTSTART;TZID="New Zealand Standard Time":20171004T120000
LAST-MODIFIED:20170727T204219Z
LOCATION:44 Lorne Street\, Whare Wānanga\, Level 2\, Central City Library\
	, Auckland Central
PRIORITY:5
SEQUENCE:0
SUMMARY;LANGUAGE=en-nz:Dalmatians out West with Raewynn Robertson
TRANSP:OPAQUE
UID:040000008200E00074C5B7101A82E00800000000405E236C7D07D301000000000000000
	010000000965BC199A80B474192F8D263E2F3E37F
X-ALT-DESC;FMTTYPE=text/html:<!DOCTYPE HTML PUBLIC "-//W3C//DTD HTML 3.2//E
	N">\n<HTML>\n<HEAD>\n<META NAME="Generator" CONTENT="MS Exchange Server ve
	rsion 14.02.5004.000">\n<TITLE></TITLE>\n</HEAD>\n<BODY>\n<!-- Converted f
	rom text/rtf format -->\n\n<P DIR=LTR><SPAN LANG="en-nz"></SPAN><SPAN LANG
	="en-nz"><FONT FACE="Arial">Presenter Raewynn Robertson will show photos a
	nd talk about the vibrant and hard-working Dalmatian immigrants who settle
	d in West Auckland in the early twentieth century.</FONT></SPAN><SPAN LANG
	="en-nz"></SPAN><SPAN LANG="en-nz"></SPAN></P>\n\n<P DIR=LTR><SPAN LANG="e
	n-nz"></SPAN><A HREF="file://www.heritagefestival.co.nz/"><SPAN LANG="en-n
	z"></SPAN><SPAN LANG="en-nz"><U><FONT COLOR="#0000FF" FACE="Arial">www.her
	itagefestival.co.nz/</FONT></U></SPAN><SPAN LANG="en-nz"></SPAN></A><SPAN 
	LANG="en-nz"></SPAN><SPAN LANG="en-nz"></SPAN></P>\n\n<P DIR=LTR><SPAN LAN
	G="en-nz"></SPAN><SPAN LANG="en-nz"></SPAN></P>\n\n<P DIR=LTR><SPAN LANG="
	en-nz"></SPAN><SPAN LANG="en-nz"></SPAN></P>\n\n</BODY>\n</HTML>
X-MICROSOFT-CDO-BUSYSTATUS:BUSY
X-MICROSOFT-CDO-IMPORTANCE:1
X-MICROSOFT-DISALLOW-COUNTER:FALSE
X-MS-OLK-AUTOFILLLOCATION:FALSE
X-MS-OLK-CONFTYPE:0
BEGIN:VALARM
TRIGGER:-PT15M
ACTION:DISPLAY
DESCRIPTION:Reminder
END:VALARM
END:VEVENT
END:VCALENDAR
