BEGIN:VCALENDAR
PRODID:-//Microsoft Corporation//Outlook 14.0 MIMEDIR//EN
VERSION:2.0
METHOD:PUBLISH
X-MS-OLK-FORCEINSPECTOROPEN:TRUE
BEGIN:VTIMEZONE
TZID:New Zealand Standard Time
BEGIN:STANDARD
DTSTART:16010401T030000
RRULE:FREQ=YEARLY;BYDAY=1SU;BYMONTH=4
TZOFFSETFROM:+1300
TZOFFSETTO:+1200
END:STANDARD
BEGIN:DAYLIGHT
DTSTART:16010930T020000
RRULE:FREQ=YEARLY;BYDAY=-1SU;BYMONTH=9
TZOFFSETFROM:+1200
TZOFFSETTO:+1300
END:DAYLIGHT
END:VTIMEZONE
BEGIN:VEVENT
CLASS:PUBLIC
CREATED:20170728T010119Z
DESCRIPTION:Lisa Truttman talks about Blockhouse Bay's picture theatre\, kn
	own as the Beverley in the 1940s and as the Kosy from the 1950s to 1970s.\
	n\nhttp://www.heritagefestival.co.nz/\n\n
DTEND;TZID="New Zealand Standard Time":20171004T113000
DTSTAMP:20170728T010119Z
DTSTART;TZID="New Zealand Standard Time":20171004T103000
LAST-MODIFIED:20170728T010119Z
LOCATION:578 Blockhouse Bay Road\, Blockhouse Bay Library\, Blockhouse Bay
PRIORITY:5
SEQUENCE:0
SUMMARY;LANGUAGE=en-nz:Dances and Flicks at Blockhouse Bay: The Kosy Theatr
	e 1926-1973
TRANSP:OPAQUE
UID:040000008200E00074C5B7101A82E00800000000E0AFCA9AA107D301000000000000000
	0100000008AED754E92ECF449B3F60A1C1683DEB3
X-ALT-DESC;FMTTYPE=text/html:<!DOCTYPE HTML PUBLIC "-//W3C//DTD HTML 3.2//E
	N">\n<HTML>\n<HEAD>\n<META NAME="Generator" CONTENT="MS Exchange Server ve
	rsion 14.02.5004.000">\n<TITLE></TITLE>\n</HEAD>\n<BODY>\n<!-- Converted f
	rom text/rtf format -->\n\n<P DIR=LTR><SPAN LANG="en-nz"></SPAN><SPAN LANG
	="en-nz"><FONT FACE="Arial">Lisa Truttman talks about Blockhouse Bay's pic
	ture theatre\, known as the Beverley in the 1940s and as the Kosy from the
	 1950s to 1970s.</FONT></SPAN></P>\n\n<P DIR=LTR><SPAN LANG="en-nz"></SPAN
	><A HREF="http://www.heritagefestival.co.nz/"><SPAN LANG="en-nz"></SPAN><S
	PAN LANG="en-nz"><U><FONT COLOR="#0000FF" FACE="Arial">http://www.heritage
	festival.co.nz/</FONT></U></SPAN><SPAN LANG="en-nz"></SPAN></A><SPAN LANG=
	"en-nz"></SPAN><SPAN LANG="en-nz"></SPAN></P>\n\n<P DIR=LTR><SPAN LANG="en
	-nz"></SPAN><SPAN LANG="en-nz"></SPAN></P>\n\n</BODY>\n</HTML>
X-MICROSOFT-CDO-BUSYSTATUS:BUSY
X-MICROSOFT-CDO-IMPORTANCE:1
X-MICROSOFT-DISALLOW-COUNTER:FALSE
X-MS-OLK-AUTOFILLLOCATION:FALSE
X-MS-OLK-CONFTYPE:0
BEGIN:VALARM
TRIGGER:-PT15M
ACTION:DISPLAY
DESCRIPTION:Reminder
END:VALARM
END:VEVENT
END:VCALENDAR
