BEGIN:VCALENDAR
PRODID:-//Microsoft Corporation//Outlook 14.0 MIMEDIR//EN
VERSION:2.0
METHOD:PUBLISH
X-MS-OLK-FORCEINSPECTOROPEN:TRUE
BEGIN:VTIMEZONE
TZID:New Zealand Standard Time
BEGIN:STANDARD
DTSTART:16010401T030000
RRULE:FREQ=YEARLY;BYDAY=1SU;BYMONTH=4
TZOFFSETFROM:+1300
TZOFFSETTO:+1200
END:STANDARD
BEGIN:DAYLIGHT
DTSTART:16010930T020000
RRULE:FREQ=YEARLY;BYDAY=-1SU;BYMONTH=9
TZOFFSETFROM:+1200
TZOFFSETTO:+1300
END:DAYLIGHT
END:VTIMEZONE
BEGIN:VEVENT
CLASS:PUBLIC
CREATED:20170730T212810Z
DESCRIPTION:Saturday 14 October\, 11am-4pm (vintage toy assessor noon-2pm)\
	n\nExplore Milford’s past though our heritage photo exhibition. The youn
	g and young-at-heart can view a model railway\, and get your vintage toys 
	assessed by an expert.\n\nhttp://www.heritagefestival.co.nz/\n\n
DTEND;TZID="New Zealand Standard Time":20171014T160000
DTSTAMP:20170730T212810Z
DTSTART;TZID="New Zealand Standard Time":20171014T110000
LAST-MODIFIED:20170730T212810Z
LOCATION:141A Kitchener Road\, Milford Senior Citizens' Hall\, Milford
PRIORITY:5
SEQUENCE:0
SUMMARY;LANGUAGE=en-nz:Destination Milford: Roads\, Rail and Water
TRANSP:OPAQUE
UID:040000008200E00074C5B7101A82E0080000000050223653DF09D301000000000000000
	010000000224BEF5927E5114A8F9C94E6D70C7BC4
X-ALT-DESC;FMTTYPE=text/html:<!DOCTYPE HTML PUBLIC "-//W3C//DTD HTML 3.2//E
	N">\n<HTML>\n<HEAD>\n<META NAME="Generator" CONTENT="MS Exchange Server ve
	rsion 14.02.5004.000">\n<TITLE></TITLE>\n</HEAD>\n<BODY>\n<!-- Converted f
	rom text/rtf format -->\n\n<P DIR=LTR><SPAN LANG="en-nz"></SPAN><SPAN LANG
	="en-nz"><FONT FACE="Arial">Saturday 14 October\, 11am-4pm (vintage toy as
	sessor noon-2pm)</FONT></SPAN></P>\n\n<P DIR=LTR><SPAN LANG="en-nz"><FONT 
	FACE="Arial">Explore Milford’s past though our heritage photo exhibition
	. The young and young-at-heart can view a model railway\, and get your vin
	tage toys assessed by an expert.</FONT></SPAN></P>\n\n<P DIR=LTR><SPAN LAN
	G="en-nz"></SPAN><A HREF="http://www.heritagefestival.co.nz/"><SPAN LANG="
	en-nz"></SPAN><SPAN LANG="en-nz"><U><FONT COLOR="#0000FF" FACE="Arial">htt
	p://www.heritagefestival.co.nz/</FONT></U></SPAN><SPAN LANG="en-nz"></SPAN
	></A><SPAN LANG="en-nz"></SPAN><SPAN LANG="en-nz"></SPAN></P>\n\n<P DIR=LT
	R><SPAN LANG="en-nz"></SPAN><SPAN LANG="en-nz"></SPAN></P>\n\n</BODY>\n</H
	TML>
X-MICROSOFT-CDO-BUSYSTATUS:BUSY
X-MICROSOFT-CDO-IMPORTANCE:1
X-MICROSOFT-DISALLOW-COUNTER:FALSE
X-MS-OLK-AUTOFILLLOCATION:FALSE
X-MS-OLK-CONFTYPE:0
BEGIN:VALARM
TRIGGER:-PT15M
ACTION:DISPLAY
DESCRIPTION:Reminder
END:VALARM
END:VEVENT
END:VCALENDAR
