BEGIN:VCALENDAR
PRODID:-//Microsoft Corporation//Outlook 14.0 MIMEDIR//EN
VERSION:2.0
METHOD:PUBLISH
X-MS-OLK-FORCEINSPECTOROPEN:TRUE
BEGIN:VTIMEZONE
TZID:New Zealand Standard Time
BEGIN:STANDARD
DTSTART:16010401T030000
RRULE:FREQ=YEARLY;BYDAY=1SU;BYMONTH=4
TZOFFSETFROM:+1300
TZOFFSETTO:+1200
END:STANDARD
BEGIN:DAYLIGHT
DTSTART:16010930T020000
RRULE:FREQ=YEARLY;BYDAY=-1SU;BYMONTH=9
TZOFFSETFROM:+1200
TZOFFSETTO:+1300
END:DAYLIGHT
END:VTIMEZONE
BEGIN:VEVENT
CLASS:PUBLIC
CREATED:20170801T195506Z
DESCRIPTION:Explore an Iron Age fort\, discover Vikings and hidden jewels o
	f an emperor in Poland\, and create your own paper treasures to take home.
	\n\nhttp://www.heritagefestival.co.nz/\n\n
DTEND;TZID="New Zealand Standard Time":20170802T083000
DTSTAMP:20170801T195506Z
DTSTART;TZID="New Zealand Standard Time":20170802T080000
LAST-MODIFIED:20170801T195506Z
LOCATION:125 Elliot Street\, Polish Heritage Trust Museum\, Howick
PRIORITY:5
SEQUENCE:0
SUMMARY;LANGUAGE=en-nz:Discover Archaeology: Hidden Treasures Workshop
TRANSP:OPAQUE
UID:040000008200E00074C5B7101A82E00800000000002EC7A7640BD301000000000000000
	0100000006FE913EB5E406847BEE511E48D0E7D87
X-ALT-DESC;FMTTYPE=text/html:<!DOCTYPE HTML PUBLIC "-//W3C//DTD HTML 3.2//E
	N">\n<HTML>\n<HEAD>\n<META NAME="Generator" CONTENT="MS Exchange Server ve
	rsion 14.02.5004.000">\n<TITLE></TITLE>\n</HEAD>\n<BODY>\n<!-- Converted f
	rom text/rtf format -->\n\n<P DIR=LTR><SPAN LANG="en-nz"></SPAN><SPAN LANG
	="en-nz"><FONT FACE="Arial">Explore an Iron Age fort\, discover</FONT></SP
	AN><SPAN LANG="en-nz"></SPAN><SPAN LANG="en-nz"> <FONT FACE="Arial">V</FON
	T></SPAN><SPAN LANG="en-nz"></SPAN><SPAN LANG="en-nz"><FONT FACE="Arial">i
	kings and hidden jewels of an emperor in Poland\, and create your own pape
	r treasures to take home.</FONT></SPAN></P>\n\n<P DIR=LTR><SPAN LANG="en-n
	z"></SPAN><A HREF="http://www.heritagefestival.co.nz/"><SPAN LANG="en-nz">
	</SPAN><SPAN LANG="en-nz"><U><FONT COLOR="#0000FF" FACE="Arial">http://www
	.heritagefestival.co.nz/</FONT></U></SPAN><SPAN LANG="en-nz"></SPAN></A><S
	PAN LANG="en-nz"></SPAN><SPAN LANG="en-nz"></SPAN></P>\n\n<P DIR=LTR><SPAN
	 LANG="en-nz"></SPAN><SPAN LANG="en-nz"></SPAN></P>\n\n</BODY>\n</HTML>
X-MICROSOFT-CDO-BUSYSTATUS:BUSY
X-MICROSOFT-CDO-IMPORTANCE:1
X-MICROSOFT-DISALLOW-COUNTER:FALSE
X-MS-OLK-AUTOFILLLOCATION:FALSE
X-MS-OLK-CONFTYPE:0
BEGIN:VALARM
TRIGGER:-PT15M
ACTION:DISPLAY
DESCRIPTION:Reminder
END:VALARM
END:VEVENT
END:VCALENDAR
