BEGIN:VCALENDAR
PRODID:-//Microsoft Corporation//Outlook 14.0 MIMEDIR//EN
VERSION:2.0
METHOD:PUBLISH
X-MS-OLK-FORCEINSPECTOROPEN:TRUE
BEGIN:VTIMEZONE
TZID:New Zealand Standard Time
BEGIN:STANDARD
DTSTART:16010401T030000
RRULE:FREQ=YEARLY;BYDAY=1SU;BYMONTH=4
TZOFFSETFROM:+1300
TZOFFSETTO:+1200
END:STANDARD
BEGIN:DAYLIGHT
DTSTART:16010930T020000
RRULE:FREQ=YEARLY;BYDAY=-1SU;BYMONTH=9
TZOFFSETFROM:+1200
TZOFFSETTO:+1300
END:DAYLIGHT
END:VTIMEZONE
BEGIN:VEVENT
CLASS:PUBLIC
CREATED:20170801T013130Z
DESCRIPTION:Sunday 1 October and 15 October\, 2pm-4pm\, and Tuesday 10 Octo
	ber\, 11am-1pm\n\nA walk exploring the history of Birkenhead Wharf and Hin
	emoa Park. Learn how the area has changed since the original wharf was bui
	lt in 1882.\n\nhttp://www.heritagefestival.co.nz/\n\n
DTEND;TZID="New Zealand Standard Time":20171015T160000
DTSTAMP:20170801T013130Z
DTSTART;TZID="New Zealand Standard Time":20171001T110000
LAST-MODIFIED:20170801T013130Z
LOCATION:1 Hinemoa Street\, Meet at the bandstand in Hinemoa Park\, Birkenh
	ead
PRIORITY:5
SEQUENCE:0
SUMMARY;LANGUAGE=en-nz:Down by the Sea
TRANSP:OPAQUE
UID:040000008200E00074C5B7101A82E00800000000F008547CCA0AD301000000000000000
	010000000CD5E4D49165BE5439DD2C263DB045A4F
X-ALT-DESC;FMTTYPE=text/html:<!DOCTYPE HTML PUBLIC "-//W3C//DTD HTML 3.2//E
	N">\n<HTML>\n<HEAD>\n<META NAME="Generator" CONTENT="MS Exchange Server ve
	rsion 14.02.5004.000">\n<TITLE></TITLE>\n</HEAD>\n<BODY>\n<!-- Converted f
	rom text/rtf format -->\n\n<P DIR=LTR><SPAN LANG="en-nz"></SPAN><SPAN LANG
	="en-nz"><FONT FACE="Arial">Sunday 1 October and 15 October\, 2pm-4pm\, an
	d Tuesday 10 October\, 11am-1pm</FONT></SPAN></P>\n\n<P DIR=LTR><SPAN LANG
	="en-nz"><FONT FACE="Arial">A walk exploring the history of Birkenhead Wha
	rf and Hinemoa Park. Learn how the area has changed since the original wha
	rf was built in 1882.</FONT></SPAN></P>\n\n<P DIR=LTR><SPAN LANG="en-nz"><
	/SPAN><A HREF="http://www.heritagefestival.co.nz/"><SPAN LANG="en-nz"></SP
	AN><SPAN LANG="en-nz"><U><FONT COLOR="#0000FF" FACE="Arial">http://www.her
	itagefestival.co.nz/</FONT></U></SPAN><SPAN LANG="en-nz"></SPAN></A><SPAN 
	LANG="en-nz"></SPAN><SPAN LANG="en-nz"></SPAN></P>\n\n<P DIR=LTR><SPAN LAN
	G="en-nz"></SPAN><SPAN LANG="en-nz"></SPAN></P>\n\n</BODY>\n</HTML>
X-MICROSOFT-CDO-BUSYSTATUS:BUSY
X-MICROSOFT-CDO-IMPORTANCE:1
X-MICROSOFT-DISALLOW-COUNTER:FALSE
X-MS-OLK-AUTOFILLLOCATION:FALSE
X-MS-OLK-CONFTYPE:0
BEGIN:VALARM
TRIGGER:-PT15M
ACTION:DISPLAY
DESCRIPTION:Reminder
END:VALARM
END:VEVENT
END:VCALENDAR
