BEGIN:VCALENDAR
PRODID:-//Microsoft Corporation//Outlook 14.0 MIMEDIR//EN
VERSION:2.0
METHOD:PUBLISH
X-MS-OLK-FORCEINSPECTOROPEN:TRUE
BEGIN:VTIMEZONE
TZID:New Zealand Standard Time
BEGIN:STANDARD
DTSTART:16010401T030000
RRULE:FREQ=YEARLY;BYDAY=1SU;BYMONTH=4
TZOFFSETFROM:+1300
TZOFFSETTO:+1200
END:STANDARD
BEGIN:DAYLIGHT
DTSTART:16010930T020000
RRULE:FREQ=YEARLY;BYDAY=-1SU;BYMONTH=9
TZOFFSETFROM:+1200
TZOFFSETTO:+1300
END:DAYLIGHT
END:VTIMEZONE
BEGIN:VEVENT
CLASS:PUBLIC
CREATED:20170801T235409Z
DESCRIPTION:Monday 5 October and Thursday 12 October\, 7.30pm-9.30pm\n\nMor
	ris dancing is more than hankies and sticks\, but feel free to leap around
	 with bells on as you find out about its related traditions.\n\nhttp://www
	.heritagefestival.co.nz/\n\n
DTEND;TZID="New Zealand Standard Time":20171012T213000
DTSTAMP:20170801T235409Z
DTSTART;TZID="New Zealand Standard Time":20171005T193000
LAST-MODIFIED:20170801T235409Z
LOCATION:704 New North Road\, St Luke's Church Hall\, Mount Albert
PRIORITY:5
SEQUENCE:0
SUMMARY;LANGUAGE=en-nz:English Morris Dancing and Related Traditions
TRANSP:OPAQUE
UID:040000008200E00074C5B7101A82E0080000000090B7120D860BD301000000000000000
	0100000005FE980515E59044F97D61B79BD7A0C75
X-ALT-DESC;FMTTYPE=text/html:<!DOCTYPE HTML PUBLIC "-//W3C//DTD HTML 3.2//E
	N">\n<HTML>\n<HEAD>\n<META NAME="Generator" CONTENT="MS Exchange Server ve
	rsion 14.02.5004.000">\n<TITLE></TITLE>\n</HEAD>\n<BODY>\n<!-- Converted f
	rom text/rtf format -->\n\n<P DIR=LTR><SPAN LANG="en-nz"></SPAN><SPAN LANG
	="en-nz"><FONT FACE="Arial">Monday 5 October and Thursday 12 October\, 7.3
	0pm-9.30pm</FONT></SPAN></P>\n\n<P DIR=LTR><SPAN LANG="en-nz"><FONT FACE="
	Arial">Morris dancing is more than hankies and sticks\, but feel free to l
	eap around with bells on as you find out about its related traditions.</FO
	NT></SPAN></P>\n\n<P DIR=LTR><SPAN LANG="en-nz"></SPAN><A HREF="http://www
	.heritagefestival.co.nz/"><SPAN LANG="en-nz"></SPAN><SPAN LANG="en-nz"><U>
	<FONT COLOR="#0000FF" FACE="Arial">http://www.heritagefestival.co.nz/</FON
	T></U></SPAN><SPAN LANG="en-nz"></SPAN></A><SPAN LANG="en-nz"></SPAN><SPAN
	 LANG="en-nz"></SPAN></P>\n\n<P DIR=LTR><SPAN LANG="en-nz"></SPAN><SPAN LA
	NG="en-nz"></SPAN></P>\n\n</BODY>\n</HTML>
X-MICROSOFT-CDO-BUSYSTATUS:BUSY
X-MICROSOFT-CDO-IMPORTANCE:1
X-MICROSOFT-DISALLOW-COUNTER:FALSE
X-MS-OLK-AUTOFILLLOCATION:FALSE
X-MS-OLK-CONFTYPE:0
BEGIN:VALARM
TRIGGER:-PT15M
ACTION:DISPLAY
DESCRIPTION:Reminder
END:VALARM
END:VEVENT
END:VCALENDAR
