BEGIN:VCALENDAR
PRODID:-//Microsoft Corporation//Outlook 14.0 MIMEDIR//EN
VERSION:2.0
METHOD:PUBLISH
X-MS-OLK-FORCEINSPECTOROPEN:TRUE
BEGIN:VTIMEZONE
TZID:New Zealand Standard Time
BEGIN:STANDARD
DTSTART:16010401T030000
RRULE:FREQ=YEARLY;BYDAY=1SU;BYMONTH=4
TZOFFSETFROM:+1300
TZOFFSETTO:+1200
END:STANDARD
BEGIN:DAYLIGHT
DTSTART:16010930T020000
RRULE:FREQ=YEARLY;BYDAY=-1SU;BYMONTH=9
TZOFFSETFROM:+1200
TZOFFSETTO:+1300
END:DAYLIGHT
END:VTIMEZONE
BEGIN:VEVENT
CLASS:PUBLIC
CREATED:20170731T233422Z
DESCRIPTION:Walk past iconic buildings such as Auckland Grammar School and 
	Mater Hospital\, and some of the suburb's most gracious homes.\n\nhttp://w
	ww.heritagefestival.co.nz/\n\n\n\n
DTEND;TZID="New Zealand Standard Time":20171014T113000
DTSTAMP:20170731T233422Z
DTSTART;TZID="New Zealand Standard Time":20171003T103000
LAST-MODIFIED:20170731T233422Z
LOCATION:Meet at the corner of Seccombes Road and Mountain Road\, Epsom
PRIORITY:5
SEQUENCE:0
SUMMARY;LANGUAGE=en-nz:Epsom in the Zone
TRANSP:OPAQUE
UID:040000008200E00074C5B7101A82E00800000000B0AFBF1EBA0AD301000000000000000
	01000000026D72804D55DB44BAC70287976D73229
X-ALT-DESC;FMTTYPE=text/html:<!DOCTYPE HTML PUBLIC "-//W3C//DTD HTML 3.2//E
	N">\n<HTML>\n<HEAD>\n<META NAME="Generator" CONTENT="MS Exchange Server ve
	rsion 14.02.5004.000">\n<TITLE></TITLE>\n</HEAD>\n<BODY>\n<!-- Converted f
	rom text/rtf format -->\n\n<P DIR=LTR><SPAN LANG="en-nz"></SPAN><SPAN LANG
	="en-nz"><FONT FACE="Arial">Walk past iconic buildings such as Auckland Gr
	ammar School and Mater Hospital\, and some of the suburb's most gracious h
	omes.</FONT></SPAN></P>\n\n<P DIR=LTR><SPAN LANG="en-nz"></SPAN><A HREF="h
	ttp://www.heritagefestival.co.nz/"><SPAN LANG="en-nz"></SPAN><SPAN LANG="e
	n-nz"><U><FONT COLOR="#0000FF" FACE="Arial">http://www.heritagefestival.co
	.nz/</FONT></U></SPAN><SPAN LANG="en-nz"></SPAN></A><SPAN LANG="en-nz"></S
	PAN><SPAN LANG="en-nz"></SPAN></P>\n\n<P DIR=LTR><SPAN LANG="en-nz"></SPAN
	><SPAN LANG="en-nz"></SPAN></P>\n\n<P DIR=LTR><SPAN LANG="en-nz"></SPAN><S
	PAN LANG="en-nz"></SPAN></P>\n\n</BODY>\n</HTML>
X-MICROSOFT-CDO-BUSYSTATUS:BUSY
X-MICROSOFT-CDO-IMPORTANCE:1
X-MICROSOFT-DISALLOW-COUNTER:FALSE
X-MS-OLK-AUTOFILLLOCATION:FALSE
X-MS-OLK-CONFTYPE:0
BEGIN:VALARM
TRIGGER:-PT15M
ACTION:DISPLAY
DESCRIPTION:Reminder
END:VALARM
END:VEVENT
END:VCALENDAR
