BEGIN:VCALENDAR
PRODID:-//Microsoft Corporation//Outlook 14.0 MIMEDIR//EN
VERSION:2.0
METHOD:PUBLISH
X-MS-OLK-FORCEINSPECTOROPEN:TRUE
BEGIN:VTIMEZONE
TZID:New Zealand Standard Time
BEGIN:STANDARD
DTSTART:16010401T030000
RRULE:FREQ=YEARLY;BYDAY=1SU;BYMONTH=4
TZOFFSETFROM:+1300
TZOFFSETTO:+1200
END:STANDARD
BEGIN:DAYLIGHT
DTSTART:16010930T020000
RRULE:FREQ=YEARLY;BYDAY=-1SU;BYMONTH=9
TZOFFSETFROM:+1200
TZOFFSETTO:+1300
END:DAYLIGHT
END:VTIMEZONE
BEGIN:VEVENT
CLASS:PUBLIC
CREATED:20170801T023109Z
DESCRIPTION:Saturday 30 September - Sunday 15 October\, Monday - Friday 10a
	m-3pm\, Saturday - Sunday 8am-5pm\n\nTransforming the Turret at the Pah Ho
	mestead into a Camera Obscura\, Mish O'Neill's fragile negative photograph
	s celebrate both historical photography and the heritage building itself.\
	n\nhttp://www.heritagefestival.co.nz/\n\n\n\n
DTEND;TZID="New Zealand Standard Time":20171015T150000
DTSTAMP:20170801T023109Z
DTSTART;TZID="New Zealand Standard Time":20170930T143000
LAST-MODIFIED:20170801T023109Z
LOCATION:72 Hillsborough Road\, Pah Homestead\, TSB Bank Wallace Arts Centr
	e\, Hillsborough
PRIORITY:5
SEQUENCE:0
SUMMARY;LANGUAGE=en-nz:Exhibition: Mish O'Neill - Looking Beyond
TRANSP:OPAQUE
UID:040000008200E00074C5B7101A82E00800000000E0E20ED1D20AD301000000000000000
	010000000D24210FC4E6CC6439DD7C7D2E7F81A55
X-ALT-DESC;FMTTYPE=text/html:<!DOCTYPE HTML PUBLIC "-//W3C//DTD HTML 3.2//E
	N">\n<HTML>\n<HEAD>\n<META NAME="Generator" CONTENT="MS Exchange Server ve
	rsion 14.02.5004.000">\n<TITLE></TITLE>\n</HEAD>\n<BODY>\n<!-- Converted f
	rom text/rtf format -->\n\n<P DIR=LTR><SPAN LANG="en-nz"></SPAN><SPAN LANG
	="en-nz"><FONT FACE="Arial">Saturday 30 September - Sunday 15 October\, Mo
	nday - Friday 10am-3pm\, Saturday - Sunday 8am-5pm</FONT></SPAN></P>\n\n<P
	 DIR=LTR><SPAN LANG="en-nz"><FONT FACE="Arial">Transforming the Turret at 
	the Pah Homestead into a Camera Obscura\, Mish O'Neill's fragile negative 
	photographs celebrate both historical photography and the heritage buildin
	g itself.</FONT></SPAN></P>\n\n<P DIR=LTR><SPAN LANG="en-nz"></SPAN><A HRE
	F="http://www.heritagefestival.co.nz/"><SPAN LANG="en-nz"></SPAN><SPAN LAN
	G="en-nz"><U><FONT COLOR="#0000FF" FACE="Arial">http://www.heritagefestiva
	l.co.nz/</FONT></U></SPAN><SPAN LANG="en-nz"></SPAN></A><SPAN LANG="en-nz"
	></SPAN><SPAN LANG="en-nz"></SPAN></P>\n\n<P DIR=LTR><SPAN LANG="en-nz"></
	SPAN><SPAN LANG="en-nz"></SPAN></P>\n\n<P DIR=LTR><SPAN LANG="en-nz"></SPA
	N><SPAN LANG="en-nz"></SPAN></P>\n\n</BODY>\n</HTML>
X-MICROSOFT-CDO-BUSYSTATUS:BUSY
X-MICROSOFT-CDO-IMPORTANCE:1
X-MICROSOFT-DISALLOW-COUNTER:FALSE
X-MS-OLK-AUTOFILLLOCATION:FALSE
X-MS-OLK-CONFTYPE:0
BEGIN:VALARM
TRIGGER:-PT15M
ACTION:DISPLAY
DESCRIPTION:Reminder
END:VALARM
END:VEVENT
END:VCALENDAR
