BEGIN:VCALENDAR
PRODID:-//Microsoft Corporation//Outlook 14.0 MIMEDIR//EN
VERSION:2.0
METHOD:PUBLISH
X-MS-OLK-FORCEINSPECTOROPEN:TRUE
BEGIN:VTIMEZONE
TZID:New Zealand Standard Time
BEGIN:STANDARD
DTSTART:16010401T030000
RRULE:FREQ=YEARLY;BYDAY=1SU;BYMONTH=4
TZOFFSETFROM:+1300
TZOFFSETTO:+1200
END:STANDARD
BEGIN:DAYLIGHT
DTSTART:16010930T020000
RRULE:FREQ=YEARLY;BYDAY=-1SU;BYMONTH=9
TZOFFSETFROM:+1200
TZOFFSETTO:+1300
END:DAYLIGHT
END:VTIMEZONE
BEGIN:VEVENT
CLASS:PUBLIC
CREATED:20170731T014630Z
DESCRIPTION:Ferries have had a big impact on the Waiheke way of life. Learn
	 what has changed and what has (k)not through photos\, cartoons and storie
	s.\n\nhttp://www.heritagefestival.co.nz/\n\n
DTEND;TZID="New Zealand Standard Time":20171015T170000
DTSTAMP:20170731T014630Z
DTSTART;TZID="New Zealand Standard Time":20170930T090000
LAST-MODIFIED:20170731T014630Z
LOCATION:131-133 Ocean View Road\, Waiheke Community Library\, Waiheke Isla
	nd
PRIORITY:5
SEQUENCE:0
SUMMARY;LANGUAGE=en-nz:Ferries of Waiheke Island
TRANSP:OPAQUE
UID:040000008200E00074C5B7101A82E00800000000A000366A030AD301000000000000000
	010000000BE43DAD36CBC80419B40BD40C0EEB48A
X-ALT-DESC;FMTTYPE=text/html:<!DOCTYPE HTML PUBLIC "-//W3C//DTD HTML 3.2//E
	N">\n<HTML>\n<HEAD>\n<META NAME="Generator" CONTENT="MS Exchange Server ve
	rsion 14.02.5004.000">\n<TITLE></TITLE>\n</HEAD>\n<BODY>\n<!-- Converted f
	rom text/rtf format -->\n\n<P DIR=LTR><SPAN LANG="en-nz"></SPAN><SPAN LANG
	="en-nz"><FONT FACE="Arial">Ferries have had a big impact on the Waiheke w
	ay of life. Learn what has changed and what has (k)not through photos\, ca
	rtoons and stories.</FONT></SPAN></P>\n\n<P DIR=LTR><SPAN LANG="en-nz"></S
	PAN><A HREF="http://www.heritagefestival.co.nz/"><SPAN LANG="en-nz"></SPAN
	><SPAN LANG="en-nz"><U><FONT COLOR="#0000FF" FACE="Arial">http://www.herit
	agefestival.co.nz/</FONT></U></SPAN><SPAN LANG="en-nz"></SPAN></A><SPAN LA
	NG="en-nz"></SPAN><SPAN LANG="en-nz"></SPAN></P>\n\n<P DIR=LTR><SPAN LANG=
	"en-nz"></SPAN><SPAN LANG="en-nz"></SPAN></P>\n\n</BODY>\n</HTML>
X-MICROSOFT-CDO-BUSYSTATUS:BUSY
X-MICROSOFT-CDO-IMPORTANCE:1
X-MICROSOFT-DISALLOW-COUNTER:FALSE
X-MS-OLK-AUTOFILLLOCATION:FALSE
X-MS-OLK-CONFTYPE:0
BEGIN:VALARM
TRIGGER:-PT15M
ACTION:DISPLAY
DESCRIPTION:Reminder
END:VALARM
END:VEVENT
END:VCALENDAR
