BEGIN:VCALENDAR
PRODID:-//Microsoft Corporation//Outlook 14.0 MIMEDIR//EN
VERSION:2.0
METHOD:PUBLISH
X-MS-OLK-FORCEINSPECTOROPEN:TRUE
BEGIN:VTIMEZONE
TZID:New Zealand Standard Time
BEGIN:STANDARD
DTSTART:16010401T030000
RRULE:FREQ=YEARLY;BYDAY=1SU;BYMONTH=4
TZOFFSETFROM:+1300
TZOFFSETTO:+1200
END:STANDARD
BEGIN:DAYLIGHT
DTSTART:16010930T020000
RRULE:FREQ=YEARLY;BYDAY=-1SU;BYMONTH=9
TZOFFSETFROM:+1200
TZOFFSETTO:+1300
END:DAYLIGHT
END:VTIMEZONE
BEGIN:VEVENT
CLASS:PUBLIC
CREATED:20170801T210259Z
DESCRIPTION:Saturday 30 September - Saturday 14 October\, Monday - Thursday
	 9am-7pm\, Friday 9am-5pm\, Saturday 9am-3pm\n\nLearn some of the ways peo
	ple sourced plentiful kaimoana and used Te Manukanuka o Hoturoa (Manukau H
	arbour) as a means of travel.\n\nhttp://www.heritagefestival.co.nz/\n\n
DTEND;TZID="New Zealand Standard Time":20171014T083000
DTSTAMP:20170801T210259Z
DTSTART;TZID="New Zealand Standard Time":20170930T080000
LAST-MODIFIED:20170801T210259Z
LOCATION:70 Hill Road\, Nathan Homestead\, Manuerwa
PRIORITY:5
SEQUENCE:0
SUMMARY;LANGUAGE=en-nz:Gatherings on the Manukau: #14 Life Below Water
TRANSP:OPAQUE
UID:040000008200E00074C5B7101A82E0080000000010DA58236E0BD301000000000000000
	010000000461B29699236F14094A0F2AE1BBC3552
X-ALT-DESC;FMTTYPE=text/html:<!DOCTYPE HTML PUBLIC "-//W3C//DTD HTML 3.2//E
	N">\n<HTML>\n<HEAD>\n<META NAME="Generator" CONTENT="MS Exchange Server ve
	rsion 14.02.5004.000">\n<TITLE></TITLE>\n</HEAD>\n<BODY>\n<!-- Converted f
	rom text/rtf format -->\n\n<P DIR=LTR><SPAN LANG="en-nz"></SPAN><SPAN LANG
	="en-nz"><FONT FACE="Arial">Saturday 30 September - Saturday 14 October\, 
	Monday - Thursday 9am-7pm\, Friday 9am-5pm\, Saturday 9am-3pm</FONT></SPAN
	></P>\n\n<P DIR=LTR><SPAN LANG="en-nz"><FONT FACE="Arial">Learn some of th
	e ways people sourced plentiful kaimoana and used Te Manukanuka o Hoturoa 
	(Manukau Harbour) as a means of travel.</FONT></SPAN></P>\n\n<P DIR=LTR><S
	PAN LANG="en-nz"></SPAN><A HREF="http://www.heritagefestival.co.nz/"><SPAN
	 LANG="en-nz"></SPAN><SPAN LANG="en-nz"><U><FONT COLOR="#0000FF" FACE="Ari
	al">http://www.heritagefestival.co.nz/</FONT></U></SPAN><SPAN LANG="en-nz"
	></SPAN></A><SPAN LANG="en-nz"></SPAN><SPAN LANG="en-nz"></SPAN></P>\n\n<P
	 DIR=LTR><SPAN LANG="en-nz"></SPAN><SPAN LANG="en-nz"></SPAN></P>\n\n</BOD
	Y>\n</HTML>
X-MICROSOFT-CDO-BUSYSTATUS:BUSY
X-MICROSOFT-CDO-IMPORTANCE:1
X-MICROSOFT-DISALLOW-COUNTER:FALSE
X-MS-OLK-AUTOFILLLOCATION:FALSE
X-MS-OLK-CONFTYPE:0
BEGIN:VALARM
TRIGGER:-PT15M
ACTION:DISPLAY
DESCRIPTION:Reminder
END:VALARM
END:VEVENT
END:VCALENDAR
