BEGIN:VCALENDAR
PRODID:-//Microsoft Corporation//Outlook 14.0 MIMEDIR//EN
VERSION:2.0
METHOD:PUBLISH
X-MS-OLK-FORCEINSPECTOROPEN:TRUE
BEGIN:VTIMEZONE
TZID:New Zealand Standard Time
BEGIN:STANDARD
DTSTART:16010401T030000
RRULE:FREQ=YEARLY;BYDAY=1SU;BYMONTH=4
TZOFFSETFROM:+1300
TZOFFSETTO:+1200
END:STANDARD
BEGIN:DAYLIGHT
DTSTART:16010930T020000
RRULE:FREQ=YEARLY;BYDAY=-1SU;BYMONTH=9
TZOFFSETFROM:+1200
TZOFFSETTO:+1300
END:DAYLIGHT
END:VTIMEZONE
BEGIN:VEVENT
CLASS:PUBLIC
CREATED:20170803T015013Z
DESCRIPTION:Goodbye Māori-land\, New Zealand Music of the first World War.
	 Victoria Rd parade to Vic Theatre for book launch including the RNZ Navy 
	Band.\n\nhttp://www.heritagefestival.co.nz/\n
DTEND;TZID="New Zealand Standard Time":20171015T150000
DTSTAMP:20170803T015013Z
DTSTART;TZID="New Zealand Standard Time":20171015T140000
LAST-MODIFIED:20170803T015013Z
LOCATION:Victoria Road\, The Vic Theatre\, Devonport
PRIORITY:5
SEQUENCE:0
SUMMARY;LANGUAGE=en-nz:Goodbye Maoriland: The Songs and Sounds of New Zeala
	nd's Great War - Street Parade\, Book Launch & Performance
TRANSP:OPAQUE
UID:040000008200E00074C5B7101A82E0080000000040D42D6E5F0CD301000000000000000
	010000000D69BF492B741414AA805223AF5A4A5C2
X-ALT-DESC;FMTTYPE=text/html:<!DOCTYPE HTML PUBLIC "-//W3C//DTD HTML 3.2//E
	N">\n<HTML>\n<HEAD>\n<META NAME="Generator" CONTENT="MS Exchange Server ve
	rsion 14.02.5004.000">\n<TITLE></TITLE>\n</HEAD>\n<BODY>\n<!-- Converted f
	rom text/rtf format -->\n\n<P DIR=LTR><SPAN LANG="en-nz"></SPAN><SPAN LANG
	="en-nz"><FONT FACE="Arial Baltic">Goodbye Māori-land\, New Zealand Music
	 of the first World War. Victoria Rd parade to Vic Theatre for book lau</F
	ONT></SPAN><SPAN LANG="en-nz"></SPAN><SPAN LANG="en-nz"><FONT FACE="Arial"
	>nch including the RNZ Navy Band.</FONT></SPAN></P>\n\n<P DIR=LTR><SPAN LA
	NG="en-nz"></SPAN><A HREF="http://www.heritagefestival.co.nz/"><SPAN LANG=
	"en-nz"></SPAN><SPAN LANG="en-nz"><U><FONT COLOR="#0000FF" FACE="Arial">ht
	tp://www.heritagefestival.co.nz/</FONT></U></SPAN><SPAN LANG="en-nz"></SPA
	N></A><SPAN LANG="en-nz"></SPAN><SPAN LANG="en-nz"></SPAN></P>\n\n</BODY>\
	n</HTML>
X-MICROSOFT-CDO-BUSYSTATUS:BUSY
X-MICROSOFT-CDO-IMPORTANCE:1
X-MICROSOFT-DISALLOW-COUNTER:FALSE
X-MS-OLK-AUTOFILLLOCATION:FALSE
X-MS-OLK-CONFTYPE:0
BEGIN:VALARM
TRIGGER:-PT15M
ACTION:DISPLAY
DESCRIPTION:Reminder
END:VALARM
END:VEVENT
END:VCALENDAR
