BEGIN:VCALENDAR
PRODID:-//Microsoft Corporation//Outlook 14.0 MIMEDIR//EN
VERSION:2.0
METHOD:PUBLISH
X-MS-OLK-FORCEINSPECTOROPEN:TRUE
BEGIN:VTIMEZONE
TZID:New Zealand Standard Time
BEGIN:STANDARD
DTSTART:16010401T030000
RRULE:FREQ=YEARLY;BYDAY=1SU;BYMONTH=4
TZOFFSETFROM:+1300
TZOFFSETTO:+1200
END:STANDARD
BEGIN:DAYLIGHT
DTSTART:16010930T020000
RRULE:FREQ=YEARLY;BYDAY=-1SU;BYMONTH=9
TZOFFSETFROM:+1200
TZOFFSETTO:+1300
END:DAYLIGHT
END:VTIMEZONE
BEGIN:VEVENT
CLASS:PUBLIC
CREATED:20170801T020925Z
DESCRIPTION:Saturday 30 September\, Saturday 7 October and Saturday 14 Octo
	ber\, 11am-3pm\n\nGuided Heritage Tour of Tui Glen\, New Zealand's First R
	egistered Motor Camp \n\nhttp://www.heritagefestival.co.nz/\n\n\n
DTEND;TZID="New Zealand Standard Time":20171014T150000
DTSTAMP:20170801T020925Z
DTSTART;TZID="New Zealand Standard Time":20170930T110000
LAST-MODIFIED:20170801T020925Z
LOCATION:35 Sel Peacock Drive\, Mill Cottage\, Henderson
PRIORITY:5
SEQUENCE:0
SUMMARY;LANGUAGE=en-nz:Guided Heritage Walk of Tui Glen\, NZ's First Regist
	ered Motor Camp
TRANSP:OPAQUE
UID:040000008200E00074C5B7101A82E00800000000804711C8CF0AD301000000000000000
	0100000002ABFEB3F82BA2E45B2A64F5EBB0A8B07
X-ALT-DESC;FMTTYPE=text/html:<!DOCTYPE HTML PUBLIC "-//W3C//DTD HTML 3.2//E
	N">\n<HTML>\n<HEAD>\n<META NAME="Generator" CONTENT="MS Exchange Server ve
	rsion 14.02.5004.000">\n<TITLE></TITLE>\n</HEAD>\n<BODY>\n<!-- Converted f
	rom text/rtf format -->\n\n<P DIR=LTR><SPAN LANG="en-nz"></SPAN><SPAN LANG
	="en-nz"><FONT FACE="Arial">Saturday 30 September\, Saturday 7 October and
	 Saturday 14 October\, 11am-3pm</FONT></SPAN><SPAN LANG="en-nz"></SPAN><SP
	AN LANG="en-nz"><BR>\n</SPAN><SPAN LANG="en-nz"></SPAN><SPAN LANG="en-nz">
	</SPAN></P>\n\n<P DIR=LTR><SPAN LANG="en-nz"><FONT FACE="Arial">Guided Her
	itage Tour of Tui Glen\, New Zealand's First Registered Motor Camp </FONT>
	</SPAN></P>\n\n<P DIR=LTR><SPAN LANG="en-nz"></SPAN><A HREF="http://www.he
	ritagefestival.co.nz/"><SPAN LANG="en-nz"></SPAN><SPAN LANG="en-nz"><U><FO
	NT COLOR="#0000FF" FACE="Arial">http://www.heritagefestival.co.nz/</FONT><
	/U></SPAN><SPAN LANG="en-nz"></SPAN></A><SPAN LANG="en-nz"></SPAN><SPAN LA
	NG="en-nz"></SPAN></P>\n\n<P DIR=LTR><SPAN LANG="en-nz"></SPAN><SPAN LANG=
	"en-nz"></SPAN></P>\n\n<P DIR=LTR><SPAN LANG="en-nz"></SPAN><SPAN LANG="en
	-nz"></SPAN></P>\n\n</BODY>\n</HTML>
X-MICROSOFT-CDO-BUSYSTATUS:BUSY
X-MICROSOFT-CDO-IMPORTANCE:1
X-MICROSOFT-DISALLOW-COUNTER:FALSE
X-MS-OLK-AUTOFILLLOCATION:FALSE
X-MS-OLK-CONFTYPE:0
BEGIN:VALARM
TRIGGER:-PT15M
ACTION:DISPLAY
DESCRIPTION:Reminder
END:VALARM
END:VEVENT
END:VCALENDAR
