BEGIN:VCALENDAR
PRODID:-//Microsoft Corporation//Outlook 14.0 MIMEDIR//EN
VERSION:2.0
METHOD:PUBLISH
X-MS-OLK-FORCEINSPECTOROPEN:TRUE
BEGIN:VTIMEZONE
TZID:New Zealand Standard Time
BEGIN:STANDARD
DTSTART:16010401T030000
RRULE:FREQ=YEARLY;BYDAY=1SU;BYMONTH=4
TZOFFSETFROM:+1300
TZOFFSETTO:+1200
END:STANDARD
BEGIN:DAYLIGHT
DTSTART:16010930T020000
RRULE:FREQ=YEARLY;BYDAY=-1SU;BYMONTH=9
TZOFFSETFROM:+1200
TZOFFSETTO:+1300
END:DAYLIGHT
END:VTIMEZONE
BEGIN:VEVENT
CLASS:PUBLIC
CREATED:20170801T002615Z
DESCRIPTION:Visit and learn about Titirangi's most important heritage sites
	 on a guided tour with local historians Bruce and Trixie Harvey. Meet at L
	opdell House.\n\nhttp://www.heritagefestival.co.nz/\n\n
DTEND;TZID="New Zealand Standard Time":20171007T160000
DTSTAMP:20170801T002615Z
DTSTART;TZID="New Zealand Standard Time":20171007T140000
LAST-MODIFIED:20170801T002615Z
LOCATION:420 Titirangi Road\, Lopdell House\, Titirangi
PRIORITY:5
SEQUENCE:0
SUMMARY;LANGUAGE=en-nz:Guided Tour of Titirangi's Heritage Sites
TRANSP:OPAQUE
UID:040000008200E00074C5B7101A82E00800000000A0275C5EC10AD301000000000000000
	0100000005C31AC4400528A46BFAACF2C89BEEA07
X-ALT-DESC;FMTTYPE=text/html:<!DOCTYPE HTML PUBLIC "-//W3C//DTD HTML 3.2//E
	N">\n<HTML>\n<HEAD>\n<META NAME="Generator" CONTENT="MS Exchange Server ve
	rsion 14.02.5004.000">\n<TITLE></TITLE>\n</HEAD>\n<BODY>\n<!-- Converted f
	rom text/rtf format -->\n\n<P DIR=LTR><SPAN LANG="en-nz"></SPAN><SPAN LANG
	="en-nz"><FONT FACE="Arial">Visit and learn about Titirangi's most importa
	nt heritage sites on a guided tour with local historians Bruce and Trixie 
	Harvey. Meet at Lopdell House.</FONT></SPAN></P>\n\n<P DIR=LTR><SPAN LANG=
	"en-nz"></SPAN><A HREF="http://www.heritagefestival.co.nz/"><SPAN LANG="en
	-nz"></SPAN><SPAN LANG="en-nz"><U><FONT COLOR="#0000FF" FACE="Arial">http:
	//www.heritagefestival.co.nz/</FONT></U></SPAN><SPAN LANG="en-nz"></SPAN><
	/A><SPAN LANG="en-nz"></SPAN><SPAN LANG="en-nz"></SPAN></P>\n\n<P DIR=LTR>
	<SPAN LANG="en-nz"></SPAN><SPAN LANG="en-nz"></SPAN></P>\n\n</BODY>\n</HTM
	L>
X-MICROSOFT-CDO-BUSYSTATUS:BUSY
X-MICROSOFT-CDO-IMPORTANCE:1
X-MICROSOFT-DISALLOW-COUNTER:FALSE
X-MS-OLK-AUTOFILLLOCATION:FALSE
X-MS-OLK-CONFTYPE:0
BEGIN:VALARM
TRIGGER:-PT15M
ACTION:DISPLAY
DESCRIPTION:Reminder
END:VALARM
END:VEVENT
END:VCALENDAR
