BEGIN:VCALENDAR
PRODID:-//Microsoft Corporation//Outlook 14.0 MIMEDIR//EN
VERSION:2.0
METHOD:PUBLISH
X-MS-OLK-FORCEINSPECTOROPEN:TRUE
BEGIN:VTIMEZONE
TZID:New Zealand Standard Time
BEGIN:STANDARD
DTSTART:16010401T030000
RRULE:FREQ=YEARLY;BYDAY=1SU;BYMONTH=4
TZOFFSETFROM:+1300
TZOFFSETTO:+1200
END:STANDARD
BEGIN:DAYLIGHT
DTSTART:16010930T020000
RRULE:FREQ=YEARLY;BYDAY=-1SU;BYMONTH=9
TZOFFSETFROM:+1200
TZOFFSETTO:+1300
END:DAYLIGHT
END:VTIMEZONE
BEGIN:VEVENT
CLASS:PUBLIC
CREATED:20170803T014446Z
DESCRIPTION:Saturday 30 September - Sunday 15 October\, Wednesday - Sunday 
	10.30am-4.30pm\n\nFrom the 1920s when cars became generally affordable. Th
	is exhibition examines Auckland's early cars and their owners\, via the Ke
	rr Taylors of Alberton.\n\nhttp://www.heritagefestival.co.nz/\n\n\n
DTEND;TZID="New Zealand Standard Time":20171015T163000
DTSTAMP:20170803T014446Z
DTSTART;TZID="New Zealand Standard Time":20170930T103000
LAST-MODIFIED:20170803T014446Z
LOCATION:100 Mt Albert Road\, Alberton\, Mt Albert
PRIORITY:5
SEQUENCE:0
SUMMARY;LANGUAGE=en-nz:Here Come the Kerr Taylors: An Insight into Car Owne
	rship in Early Auckland
TRANSP:OPAQUE
UID:040000008200E00074C5B7101A82E00800000000208146AB5E0CD301000000000000000
	010000000FE299DB7141BC049B84BD306B988495E
X-ALT-DESC;FMTTYPE=text/html:<!DOCTYPE HTML PUBLIC "-//W3C//DTD HTML 3.2//E
	N">\n<HTML>\n<HEAD>\n<META NAME="Generator" CONTENT="MS Exchange Server ve
	rsion 14.02.5004.000">\n<TITLE></TITLE>\n</HEAD>\n<BODY>\n<!-- Converted f
	rom text/rtf format -->\n\n<P DIR=LTR><SPAN LANG="en-nz"></SPAN><SPAN LANG
	="en-nz"><FONT FACE="Arial">Saturday 30 September - Sunday 15 October\, We
	dnesday - Sunday 10.30am-4.30pm</FONT></SPAN><SPAN LANG="en-nz"></SPAN><SP
	AN LANG="en-nz"></SPAN></P>\n\n<P DIR=LTR><SPAN LANG="en-nz"></SPAN><SPAN 
	LANG="en-nz"></SPAN></P>\n\n<P DIR=LTR><SPAN LANG="en-nz"></SPAN><SPAN LAN
	G="en-nz"><FONT FACE="Arial">From the 1920s when cars became generally aff
	ordable. This exhibition examines Auckland's early cars and their owners\,
	 via the Kerr Taylors of Alberton.</FONT></SPAN></P>\n\n<P DIR=LTR><SPAN L
	ANG="en-nz"></SPAN><A HREF="http://www.heritagefestival.co.nz/"><SPAN LANG
	="en-nz"></SPAN><SPAN LANG="en-nz"><U><FONT COLOR="#0000FF" FACE="Arial">h
	ttp://www.heritagefestival.co.nz/</FONT></U></SPAN><SPAN LANG="en-nz"></SP
	AN></A><SPAN LANG="en-nz"></SPAN><SPAN LANG="en-nz"></SPAN></P>\n\n<P DIR=
	LTR><SPAN LANG="en-nz"></SPAN><SPAN LANG="en-nz"></SPAN></P>\n\n<P DIR=LTR
	><SPAN LANG="en-nz"></SPAN><SPAN LANG="en-nz"></SPAN></P>\n\n</BODY>\n</HT
	ML>
X-MICROSOFT-CDO-BUSYSTATUS:BUSY
X-MICROSOFT-CDO-IMPORTANCE:1
X-MICROSOFT-DISALLOW-COUNTER:FALSE
X-MS-OLK-AUTOFILLLOCATION:FALSE
X-MS-OLK-CONFTYPE:0
BEGIN:VALARM
TRIGGER:-PT15M
ACTION:DISPLAY
DESCRIPTION:Reminder
END:VALARM
END:VEVENT
END:VCALENDAR
