BEGIN:VCALENDAR
PRODID:-//Microsoft Corporation//Outlook 14.0 MIMEDIR//EN
VERSION:2.0
METHOD:PUBLISH
X-MS-OLK-FORCEINSPECTOROPEN:TRUE
BEGIN:VTIMEZONE
TZID:New Zealand Standard Time
BEGIN:STANDARD
DTSTART:16010401T030000
RRULE:FREQ=YEARLY;BYDAY=1SU;BYMONTH=4
TZOFFSETFROM:+1300
TZOFFSETTO:+1200
END:STANDARD
BEGIN:DAYLIGHT
DTSTART:16010930T020000
RRULE:FREQ=YEARLY;BYDAY=-1SU;BYMONTH=9
TZOFFSETFROM:+1200
TZOFFSETTO:+1300
END:DAYLIGHT
END:VTIMEZONE
BEGIN:VEVENT
CLASS:PUBLIC
CREATED:20170801T030030Z
DESCRIPTION:Visitors are invited to climb the narrow winding staircase up t
	o the usually out-of-bounds Turret at the Pah Homestead\, where a breath-t
	aking 360° view awaits.\n\nhttp://www.heritagefestival.co.nz/\n\n\n\n
DTEND;TZID="New Zealand Standard Time":20171005T130000
DTSTAMP:20170801T030030Z
DTSTART;TZID="New Zealand Standard Time":20171003T110000
LAST-MODIFIED:20170801T030030Z
LOCATION:72 Hillsborough Road\, Pah Homestead\, TSB Bank Wallace Arts Centr
	e\, Hillsborough
PRIORITY:5
SEQUENCE:0
SUMMARY;LANGUAGE=en-nz:Heritage Festival Turret Tours
TRANSP:OPAQUE
UID:040000008200E00074C5B7101A82E0080000000060A3F1EAD60AD301000000000000000
	010000000CF0E94A1D9889642A8387ACF77F8CB8C
X-ALT-DESC;FMTTYPE=text/html:<!DOCTYPE HTML PUBLIC "-//W3C//DTD HTML 3.2//E
	N">\n<HTML>\n<HEAD>\n<META NAME="Generator" CONTENT="MS Exchange Server ve
	rsion 14.02.5004.000">\n<TITLE></TITLE>\n</HEAD>\n<BODY>\n<!-- Converted f
	rom text/rtf format -->\n\n<P DIR=LTR><SPAN LANG="en-nz"></SPAN><SPAN LANG
	="en-nz"><FONT FACE="Arial">Visitors are invited to climb the narrow windi
	ng staircase up to the usually out-of-bounds Turret at the Pah Homestead\,
	 where a breath-taking 360° view awaits.</FONT></SPAN></P>\n\n<P DIR=LTR>
	<SPAN LANG="en-nz"></SPAN><A HREF="http://www.heritagefestival.co.nz/"><SP
	AN LANG="en-nz"></SPAN><SPAN LANG="en-nz"><U><FONT COLOR="#0000FF" FACE="A
	rial">http://www.heritagefestival.co.nz/</FONT></U></SPAN><SPAN LANG="en-n
	z"></SPAN></A><SPAN LANG="en-nz"></SPAN><SPAN LANG="en-nz"></SPAN></P>\n\n
	<P DIR=LTR><SPAN LANG="en-nz"></SPAN><SPAN LANG="en-nz"></SPAN></P>\n\n<P 
	DIR=LTR><SPAN LANG="en-nz"></SPAN><SPAN LANG="en-nz"></SPAN></P>\n\n</BODY
	>\n</HTML>
X-MICROSOFT-CDO-BUSYSTATUS:BUSY
X-MICROSOFT-CDO-IMPORTANCE:1
X-MICROSOFT-DISALLOW-COUNTER:FALSE
X-MS-OLK-AUTOFILLLOCATION:FALSE
X-MS-OLK-CONFTYPE:0
BEGIN:VALARM
TRIGGER:-PT15M
ACTION:DISPLAY
DESCRIPTION:Reminder
END:VALARM
END:VEVENT
END:VCALENDAR
