BEGIN:VCALENDAR
PRODID:-//Microsoft Corporation//Outlook 14.0 MIMEDIR//EN
VERSION:2.0
METHOD:PUBLISH
X-MS-OLK-FORCEINSPECTOROPEN:TRUE
BEGIN:VTIMEZONE
TZID:New Zealand Standard Time
BEGIN:STANDARD
DTSTART:16010401T030000
RRULE:FREQ=YEARLY;BYDAY=1SU;BYMONTH=4
TZOFFSETFROM:+1300
TZOFFSETTO:+1200
END:STANDARD
BEGIN:DAYLIGHT
DTSTART:16010930T020000
RRULE:FREQ=YEARLY;BYDAY=-1SU;BYMONTH=9
TZOFFSETFROM:+1200
TZOFFSETTO:+1300
END:DAYLIGHT
END:VTIMEZONE
BEGIN:VEVENT
CLASS:PUBLIC
CREATED:20170802T014057Z
DESCRIPTION:The City Centre Residents' Group will start the heritage Coast 
	to Coast walk and pass the baton to neighbours along the route.\n\nhttp://
	www.heritagefestival.co.nz/\n
DTEND;TZID="New Zealand Standard Time":20171001T150000
DTSTAMP:20170802T014057Z
DTSTART;TZID="New Zealand Standard Time":20171001T100000
LAST-MODIFIED:20170802T014057Z
LOCATION:Corner of Quay Street and Hobson Street\, Meet outside the New Z
	ealand Maritime Museum\, Auckland Central
PRIORITY:5
SEQUENCE:0
SUMMARY;LANGUAGE=en-nz:Hosting the Coast to Coast
TRANSP:OPAQUE
UID:040000008200E00074C5B7101A82E008000000004056ABF8940BD301000000000000000
	0100000002822DAE65F10C5458D70BA1300964494
X-ALT-DESC;FMTTYPE=text/html:<!DOCTYPE HTML PUBLIC "-//W3C//DTD HTML 3.2//E
	N">\n<HTML>\n<HEAD>\n<META NAME="Generator" CONTENT="MS Exchange Server ve
	rsion 14.02.5004.000">\n<TITLE></TITLE>\n</HEAD>\n<BODY>\n<!-- Converted f
	rom text/rtf format -->\n\n<P DIR=LTR><SPAN LANG="en-nz"></SPAN><SPAN LANG
	="en-nz"><FONT FACE="Arial">The City Centre Residents' Group will start th
	e heritage Coast to Coast walk and pass the baton to neighbours along the 
	route.</FONT></SPAN></P>\n\n<P DIR=LTR><SPAN LANG="en-nz"></SPAN><A HREF="
	http://www.heritagefestival.co.nz/"><SPAN LANG="en-nz"></SPAN><SPAN LANG="
	en-nz"><U><FONT COLOR="#0000FF" FACE="Arial">http://www.heritagefestival.c
	o.nz/</FONT></U></SPAN><SPAN LANG="en-nz"></SPAN></A><SPAN LANG="en-nz"></
	SPAN><SPAN LANG="en-nz"></SPAN></P>\n\n</BODY>\n</HTML>
X-MICROSOFT-CDO-BUSYSTATUS:BUSY
X-MICROSOFT-CDO-IMPORTANCE:1
X-MICROSOFT-DISALLOW-COUNTER:FALSE
X-MS-OLK-AUTOFILLLOCATION:FALSE
X-MS-OLK-CONFTYPE:0
BEGIN:VALARM
TRIGGER:-PT15M
ACTION:DISPLAY
DESCRIPTION:Reminder
END:VALARM
END:VEVENT
END:VCALENDAR
