BEGIN:VCALENDAR
PRODID:-//Microsoft Corporation//Outlook 14.0 MIMEDIR//EN
VERSION:2.0
METHOD:PUBLISH
X-MS-OLK-FORCEINSPECTOROPEN:TRUE
BEGIN:VTIMEZONE
TZID:New Zealand Standard Time
BEGIN:STANDARD
DTSTART:16010401T030000
RRULE:FREQ=YEARLY;BYDAY=1SU;BYMONTH=4
TZOFFSETFROM:+1300
TZOFFSETTO:+1200
END:STANDARD
BEGIN:DAYLIGHT
DTSTART:16010930T020000
RRULE:FREQ=YEARLY;BYDAY=-1SU;BYMONTH=9
TZOFFSETFROM:+1200
TZOFFSETTO:+1300
END:DAYLIGHT
END:VTIMEZONE
BEGIN:VEVENT
CLASS:PUBLIC
CREATED:20170727T233918Z
DESCRIPTION:Stroll downtown Auckland with engineering experts on two differ
	ent walks featuring important buildings and structures. Starting near the 
	waterfront\, each walk takes about 2.5 hours.\n\nWalk A: Saturday 30 Septe
	mber\, Sunday 8 October and Saturday 14 October\, 10am-12.30pm\nWalk B: Su
	nday 1 October\, Saturday 7 October and Sunday 15 October\, 10am-12.30pm\n
	\nhttp://www.heritagefestival.co.nz/\n\n
DTEND;TZID="New Zealand Standard Time":20170930T123000
DTSTAMP:20170727T233918Z
DTSTART;TZID="New Zealand Standard Time":20170930T103000
LAST-MODIFIED:20170727T233918Z
LOCATION:Meet under the old Americas Cup Boat\, Corner of Quay Street and H
	obson Street\, Auckland Central
PRIORITY:5
SEQUENCE:0
SUMMARY;LANGUAGE=en-nz:IPENZ Engineering Heritage Walks
TRANSP:OPAQUE
UID:040000008200E00074C5B7101A82E00800000000806711269607D301000000000000000
	0100000006F47C5313EDB754BB627D9C158811A5A
X-ALT-DESC;FMTTYPE=text/html:<!DOCTYPE HTML PUBLIC "-//W3C//DTD HTML 3.2//E
	N">\n<HTML>\n<HEAD>\n<META NAME="Generator" CONTENT="MS Exchange Server ve
	rsion 14.02.5004.000">\n<TITLE></TITLE>\n</HEAD>\n<BODY>\n<!-- Converted f
	rom text/rtf format -->\n\n<P DIR=LTR><SPAN LANG="en-nz"></SPAN><SPAN LANG
	="en-nz"><FONT FACE="Arial">Stroll downtown Auckland with engineering expe
	rts on two different walks featuring important buildings and structures. S
	tarting near the waterfront\, each walk takes about 2.5 hours.</FONT></SPA
	N><SPAN LANG="en-nz"></SPAN><SPAN LANG="en-nz"></SPAN></P>\n\n<P DIR=LTR><
	SPAN LANG="en-nz"></SPAN><SPAN LANG="en-nz"><FONT FACE="Arial">Walk A: Sat
	urday 30 September\, Sunday 8 October and Saturday 14 October\, 10am-12.30
	pm</FONT></SPAN></P>\n\n<P DIR=LTR><SPAN LANG="en-nz"><FONT FACE="Arial">W
	alk B: Sunday 1 October\, Saturday 7 October and Sunday 15 October\, 10am-
	12.30pm</FONT></SPAN><SPAN LANG="en-nz"></SPAN><SPAN LANG="en-nz"></SPAN><
	/P>\n\n<P DIR=LTR><SPAN LANG="en-nz"></SPAN><A HREF="http://www.heritagefe
	stival.co.nz/"><SPAN LANG="en-nz"></SPAN><SPAN LANG="en-nz"><U><FONT COLOR
	="#0000FF" FACE="Arial">http://www.heritagefestival.co.nz/</FONT></U></SPA
	N><SPAN LANG="en-nz"></SPAN></A><SPAN LANG="en-nz"></SPAN><SPAN LANG="en-n
	z"></SPAN></P>\n\n<P DIR=LTR><SPAN LANG="en-nz"></SPAN><SPAN LANG="en-nz">
	</SPAN></P>\n\n</BODY>\n</HTML>
X-MICROSOFT-CDO-BUSYSTATUS:BUSY
X-MICROSOFT-CDO-IMPORTANCE:1
X-MICROSOFT-DISALLOW-COUNTER:FALSE
X-MS-OLK-AUTOFILLLOCATION:FALSE
X-MS-OLK-CONFTYPE:0
BEGIN:VALARM
TRIGGER:-PT15M
ACTION:DISPLAY
DESCRIPTION:Reminder
END:VALARM
END:VEVENT
END:VCALENDAR
