BEGIN:VCALENDAR
PRODID:-//Microsoft Corporation//Outlook 14.0 MIMEDIR//EN
VERSION:2.0
METHOD:PUBLISH
X-MS-OLK-FORCEINSPECTOROPEN:TRUE
BEGIN:VTIMEZONE
TZID:New Zealand Standard Time
BEGIN:STANDARD
DTSTART:16010401T030000
RRULE:FREQ=YEARLY;BYDAY=1SU;BYMONTH=4
TZOFFSETFROM:+1300
TZOFFSETTO:+1200
END:STANDARD
BEGIN:DAYLIGHT
DTSTART:16010930T020000
RRULE:FREQ=YEARLY;BYDAY=-1SU;BYMONTH=9
TZOFFSETFROM:+1200
TZOFFSETTO:+1300
END:DAYLIGHT
END:VTIMEZONE
BEGIN:VEVENT
CLASS:PUBLIC
CREATED:20170728T015338Z
DESCRIPTION:See John Kinder's photographic exhibition showing transport in 
	Victorian Auckland - from walking to modern railways\, tunnels\, early con
	struction and bridges of the times.\n\nhttp://www.heritagefestival.co.nz/\
	n
DTEND;TZID="New Zealand Standard Time":20171015T150000
DTSTAMP:20170728T015338Z
DTSTART;TZID="New Zealand Standard Time":20170930T120000
LAST-MODIFIED:20170728T015338Z
LOCATION:2 Ayr Street\, Kinder House\, Parnell
PRIORITY:5
SEQUENCE:0
SUMMARY;LANGUAGE=en-nz:John Kinder's Photographs and Other Colonial Aucklan
	d Paintings Depicting Colonial Auckland Transport Modes
TRANSP:OPAQUE
UID:040000008200E00074C5B7101A82E00800000000A03EC6E9A807D301000000000000000
	01000000011EE3EA009BB5B4CB6418BADA2978C74
X-ALT-DESC;FMTTYPE=text/html:<!DOCTYPE HTML PUBLIC "-//W3C//DTD HTML 3.2//E
	N">\n<HTML>\n<HEAD>\n<META NAME="Generator" CONTENT="MS Exchange Server ve
	rsion 14.02.5004.000">\n<TITLE></TITLE>\n</HEAD>\n<BODY>\n<!-- Converted f
	rom text/rtf format -->\n\n<P DIR=LTR><SPAN LANG="en-nz"></SPAN><SPAN LANG
	="en-nz"><FONT FACE="Arial">See John Kinder's photographic exhibition show
	ing transport in Victorian Auckland - from walking to modern railways\, tu
	nnels\, early construction and bridges of the times.</FONT></SPAN></P>\n\n
	<P DIR=LTR><SPAN LANG="en-nz"></SPAN><A HREF="http://www.heritagefestival.
	co.nz/"><SPAN LANG="en-nz"></SPAN><SPAN LANG="en-nz"><U><FONT COLOR="#0000
	FF" FACE="Arial">http://www.heritagefestival.co.nz/</FONT></U></SPAN><SPAN
	 LANG="en-nz"></SPAN></A><SPAN LANG="en-nz"></SPAN><SPAN LANG="en-nz"></SP
	AN></P>\n\n</BODY>\n</HTML>
X-MICROSOFT-CDO-BUSYSTATUS:BUSY
X-MICROSOFT-CDO-IMPORTANCE:1
X-MICROSOFT-DISALLOW-COUNTER:FALSE
X-MS-OLK-AUTOFILLLOCATION:FALSE
X-MS-OLK-CONFTYPE:0
BEGIN:VALARM
TRIGGER:-PT15M
ACTION:DISPLAY
DESCRIPTION:Reminder
END:VALARM
END:VEVENT
END:VCALENDAR
