BEGIN:VCALENDAR
PRODID:-//Microsoft Corporation//Outlook 14.0 MIMEDIR//EN
VERSION:2.0
METHOD:PUBLISH
X-MS-OLK-FORCEINSPECTOROPEN:TRUE
BEGIN:VTIMEZONE
TZID:New Zealand Standard Time
BEGIN:STANDARD
DTSTART:16010401T030000
RRULE:FREQ=YEARLY;BYDAY=1SU;BYMONTH=4
TZOFFSETFROM:+1300
TZOFFSETTO:+1200
END:STANDARD
BEGIN:DAYLIGHT
DTSTART:16010930T020000
RRULE:FREQ=YEARLY;BYDAY=-1SU;BYMONTH=9
TZOFFSETFROM:+1200
TZOFFSETTO:+1300
END:DAYLIGHT
END:VTIMEZONE
BEGIN:VEVENT
CLASS:PUBLIC
CREATED:20170802T014425Z
DESCRIPTION:Saturday 30 September - Sunday 15 October\, Saturday - Sunday 1
	0.30am-2.30pm\n\nLearn traditional maritime knots in weekend workshops for
	 all ages. Drop in sessions\, no bookings required. \n\nhttp://www.heritag
	efestival.co.nz/\n\n
DTEND;TZID="New Zealand Standard Time":20171015T143000
DTSTAMP:20170802T014425Z
DTSTART;TZID="New Zealand Standard Time":20170930T103000
LAST-MODIFIED:20170802T014425Z
LOCATION:Corner of Quay Street and Hobson Street\, New Zealand Maritime Mus
	eum\, Auckland Central
PRIORITY:5
SEQUENCE:0
SUMMARY;LANGUAGE=en-nz:Knot Workshops
TRANSP:OPAQUE
UID:040000008200E00074C5B7101A82E00800000000006A6A74950BD301000000000000000
	010000000CDBB4A2631000E45BECC838B30770DAA
X-ALT-DESC;FMTTYPE=text/html:<!DOCTYPE HTML PUBLIC "-//W3C//DTD HTML 3.2//E
	N">\n<HTML>\n<HEAD>\n<META NAME="Generator" CONTENT="MS Exchange Server ve
	rsion 14.02.5004.000">\n<TITLE></TITLE>\n</HEAD>\n<BODY>\n<!-- Converted f
	rom text/rtf format -->\n\n<P DIR=LTR><SPAN LANG="en-nz"></SPAN><SPAN LANG
	="en-nz"><FONT FACE="Arial">Saturday 30 September - Sunday 15 October\, Sa
	turday - Sunday 10.30am-2.30pm</FONT></SPAN></P>\n\n<P DIR=LTR><SPAN LANG=
	"en-nz"><FONT FACE="Arial">Learn traditional maritime knots in weekend wor
	kshops for all ages. Drop in sessions\, no bookings required. </FONT></SPA
	N></P>\n\n<P DIR=LTR><SPAN LANG="en-nz"></SPAN><A HREF="http://www.heritag
	efestival.co.nz/"><SPAN LANG="en-nz"></SPAN><SPAN LANG="en-nz"><U><FONT CO
	LOR="#0000FF" FACE="Arial">http://www.heritagefestival.co.nz/</FONT></U></
	SPAN><SPAN LANG="en-nz"></SPAN></A><SPAN LANG="en-nz"></SPAN><SPAN LANG="e
	n-nz"></SPAN></P>\n\n<P DIR=LTR><SPAN LANG="en-nz"></SPAN><SPAN LANG="en-n
	z"></SPAN></P>\n\n</BODY>\n</HTML>
X-MICROSOFT-CDO-BUSYSTATUS:BUSY
X-MICROSOFT-CDO-IMPORTANCE:1
X-MICROSOFT-DISALLOW-COUNTER:FALSE
X-MS-OLK-AUTOFILLLOCATION:FALSE
X-MS-OLK-CONFTYPE:0
BEGIN:VALARM
TRIGGER:-PT15M
ACTION:DISPLAY
DESCRIPTION:Reminder
END:VALARM
END:VEVENT
END:VCALENDAR
