BEGIN:VCALENDAR
PRODID:-//Microsoft Corporation//Outlook 14.0 MIMEDIR//EN
VERSION:2.0
METHOD:PUBLISH
X-MS-OLK-FORCEINSPECTOROPEN:TRUE
BEGIN:VTIMEZONE
TZID:New Zealand Standard Time
BEGIN:STANDARD
DTSTART:16010401T030000
RRULE:FREQ=YEARLY;BYDAY=1SU;BYMONTH=4
TZOFFSETFROM:+1300
TZOFFSETTO:+1200
END:STANDARD
BEGIN:DAYLIGHT
DTSTART:16010930T020000
RRULE:FREQ=YEARLY;BYDAY=-1SU;BYMONTH=9
TZOFFSETFROM:+1200
TZOFFSETTO:+1300
END:DAYLIGHT
END:VTIMEZONE
BEGIN:VEVENT
CLASS:PUBLIC
CREATED:20170802T022955Z
DESCRIPTION:A fascinating journey into the rich history of Auckland's oldes
	t cemetery. Discover the stories behind Grafton Bridge and the gully in th
	is free guided tour.\n\nhttp://www.heritagefestival.co.nz/\n\n\n\n
DTEND;TZID="New Zealand Standard Time":20170930T193000
DTSTAMP:20170802T022955Z
DTSTART;TZID="New Zealand Standard Time":20170930T180000
LAST-MODIFIED:20170802T022955Z
LOCATION:Corner of Karangahape Road and Symonds Street\, Symonds Street Cem
	etery\, Newton
PRIORITY:5
SEQUENCE:0
SUMMARY;LANGUAGE=en-nz:K' Road Presents: Ghosts of the Gully
TRANSP:OPAQUE
UID:040000008200E00074C5B7101A82E008000000005071A7CF9B0BD301000000000000000
	010000000A7A5C12E53C2F047ADD5734E62D97D88
X-ALT-DESC;FMTTYPE=text/html:<!DOCTYPE HTML PUBLIC "-//W3C//DTD HTML 3.2//E
	N">\n<HTML>\n<HEAD>\n<META NAME="Generator" CONTENT="MS Exchange Server ve
	rsion 14.02.5004.000">\n<TITLE></TITLE>\n</HEAD>\n<BODY>\n<!-- Converted f
	rom text/rtf format -->\n\n<P DIR=LTR><SPAN LANG="en-nz"></SPAN><SPAN LANG
	="en-nz"><FONT FACE="Arial">A fascinating journey into the rich history of
	 Auckland's oldest cemetery. Discover the stories behind Grafton Bridge an
	d the gully in this free guided tour.</FONT></SPAN></P>\n\n<P DIR=LTR><SPA
	N LANG="en-nz"></SPAN><A HREF="http://www.heritagefestival.co.nz/"><SPAN L
	ANG="en-nz"></SPAN><SPAN LANG="en-nz"><U><FONT COLOR="#0000FF" FACE="Arial
	">http://www.heritagefestival.co.nz/</FONT></U></SPAN><SPAN LANG="en-nz"><
	/SPAN></A><SPAN LANG="en-nz"></SPAN><SPAN LANG="en-nz"></SPAN></P>\n\n<P D
	IR=LTR><SPAN LANG="en-nz"></SPAN><SPAN LANG="en-nz"></SPAN></P>\n\n<P DIR=
	LTR><SPAN LANG="en-nz"></SPAN><SPAN LANG="en-nz"></SPAN></P>\n\n</BODY>\n<
	/HTML>
X-MICROSOFT-CDO-BUSYSTATUS:BUSY
X-MICROSOFT-CDO-IMPORTANCE:1
X-MICROSOFT-DISALLOW-COUNTER:FALSE
X-MS-OLK-AUTOFILLLOCATION:FALSE
X-MS-OLK-CONFTYPE:0
BEGIN:VALARM
TRIGGER:-PT15M
ACTION:DISPLAY
DESCRIPTION:Reminder
END:VALARM
END:VEVENT
END:VCALENDAR
