BEGIN:VCALENDAR
PRODID:-//Microsoft Corporation//Outlook 14.0 MIMEDIR//EN
VERSION:2.0
METHOD:PUBLISH
X-MS-OLK-FORCEINSPECTOROPEN:TRUE
BEGIN:VTIMEZONE
TZID:New Zealand Standard Time
BEGIN:STANDARD
DTSTART:16010401T030000
RRULE:FREQ=YEARLY;BYDAY=1SU;BYMONTH=4
TZOFFSETFROM:+1300
TZOFFSETTO:+1200
END:STANDARD
BEGIN:DAYLIGHT
DTSTART:16010930T020000
RRULE:FREQ=YEARLY;BYDAY=-1SU;BYMONTH=9
TZOFFSETFROM:+1200
TZOFFSETTO:+1300
END:DAYLIGHT
END:VTIMEZONE
BEGIN:VEVENT
CLASS:PUBLIC
CREATED:20170806T210827Z
DESCRIPTION:Join the Pua brothers in an entertaining tour\, sharing their s
	tories of the strip as their road to living the New Zealand dream.\n\nhttp
	://www.heritagefestival.co.nz/\n\n
DTEND;TZID="New Zealand Standard Time":20171008T150000
DTSTAMP:20170806T210827Z
DTSTART;TZID="New Zealand Standard Time":20171008T130000
LAST-MODIFIED:20170806T210827Z
LOCATION:Corner of Symonds Street and Karangahape Road\, Meet at Symonds St
	reet Cemetery\, Newton
PRIORITY:5
SEQUENCE:0
SUMMARY;LANGUAGE=en-nz:K' Road Presents: Poly Road - Stories of Karangahape
	 Road
TRANSP:OPAQUE
UID:040000008200E00074C5B7101A82E0080000000090B865BB5C0FD301000000000000000
	01000000022F6B568F88D0D4482982AACE9DA2660
X-ALT-DESC;FMTTYPE=text/html:<!DOCTYPE HTML PUBLIC "-//W3C//DTD HTML 3.2//E
	N">\n<HTML>\n<HEAD>\n<META NAME="Generator" CONTENT="MS Exchange Server ve
	rsion 14.02.5004.000">\n<TITLE></TITLE>\n</HEAD>\n<BODY>\n<!-- Converted f
	rom text/rtf format -->\n\n<P DIR=LTR><SPAN LANG="en-nz"></SPAN><SPAN LANG
	="en-nz"><FONT FACE="Arial">Join the Pua brothers in an entertaining tour\
	, sharing their stories of the strip as their road to living the New Zeala
	nd dream.</FONT></SPAN></P>\n\n<P DIR=LTR><SPAN LANG="en-nz"></SPAN><A HRE
	F="http://www.heritagefestival.co.nz/"><SPAN LANG="en-nz"></SPAN><SPAN LAN
	G="en-nz"><U><FONT COLOR="#0000FF" FACE="Arial">http://www.heritagefestiva
	l.co.nz/</FONT></U></SPAN><SPAN LANG="en-nz"></SPAN></A><SPAN LANG="en-nz"
	></SPAN><SPAN LANG="en-nz"></SPAN></P>\n\n<P DIR=LTR><SPAN LANG="en-nz"></
	SPAN><SPAN LANG="en-nz"></SPAN></P>\n\n</BODY>\n</HTML>
X-MICROSOFT-CDO-BUSYSTATUS:BUSY
X-MICROSOFT-CDO-IMPORTANCE:1
X-MICROSOFT-DISALLOW-COUNTER:FALSE
X-MS-OLK-AUTOFILLLOCATION:FALSE
X-MS-OLK-CONFTYPE:0
BEGIN:VALARM
TRIGGER:-PT15M
ACTION:DISPLAY
DESCRIPTION:Reminder
END:VALARM
END:VEVENT
END:VCALENDAR
