BEGIN:VCALENDAR
PRODID:-//Microsoft Corporation//Outlook 14.0 MIMEDIR//EN
VERSION:2.0
METHOD:PUBLISH
X-MS-OLK-FORCEINSPECTOROPEN:TRUE
BEGIN:VTIMEZONE
TZID:New Zealand Standard Time
BEGIN:STANDARD
DTSTART:16010401T030000
RRULE:FREQ=YEARLY;BYDAY=1SU;BYMONTH=4
TZOFFSETFROM:+1300
TZOFFSETTO:+1200
END:STANDARD
BEGIN:DAYLIGHT
DTSTART:16010930T020000
RRULE:FREQ=YEARLY;BYDAY=-1SU;BYMONTH=9
TZOFFSETFROM:+1200
TZOFFSETTO:+1300
END:DAYLIGHT
END:VTIMEZONE
BEGIN:VEVENT
CLASS:PUBLIC
CREATED:20170803T014147Z
DESCRIPTION:Maota Samoa (Samoa House) on Beresford Street\, with its distin
	ctive Fale\, was built in 1978. Join us in this iconic building to celebra
	te the Pacific heritage of K'Road.\n\nhttp://www.heritagefestival.co.nz/\n
	\n\n
DTEND;TZID="New Zealand Standard Time":20171005T200000
DTSTAMP:20170803T014147Z
DTSTART;TZID="New Zealand Standard Time":20171005T183000
LAST-MODIFIED:20170803T014147Z
LOCATION:283 Karangahape Road\, Samoa House\, Newton
PRIORITY:5
SEQUENCE:0
SUMMARY;LANGUAGE=en-nz:K' Road Presents: Urban Pasifika - Polynesian Panthe
	rs
TRANSP:OPAQUE
UID:040000008200E00074C5B7101A82E008000000004089B6405E0CD301000000000000000
	010000000C62F63F8CB48E848A2D26B165920E0CB
X-ALT-DESC;FMTTYPE=text/html:<!DOCTYPE HTML PUBLIC "-//W3C//DTD HTML 3.2//E
	N">\n<HTML>\n<HEAD>\n<META NAME="Generator" CONTENT="MS Exchange Server ve
	rsion 14.02.5004.000">\n<TITLE></TITLE>\n</HEAD>\n<BODY>\n<!-- Converted f
	rom text/rtf format -->\n\n<P DIR=LTR><SPAN LANG="en-nz"></SPAN><SPAN LANG
	="en-nz"><FONT FACE="Arial">Maota Samoa (Samoa House) on Beresford Street\
	, with its distinctive Fale\, was built in 1978. Join us in this iconic bu
	ilding to celebrate the Pacific heritage of K'Road.</FONT></SPAN></P>\n\n<
	P DIR=LTR><SPAN LANG="en-nz"></SPAN><A HREF="http://www.heritagefestival.c
	o.nz/"><SPAN LANG="en-nz"></SPAN><SPAN LANG="en-nz"><U><FONT COLOR="#0000F
	F" FACE="Arial">http://www.heritagefestival.co.nz/</FONT></U></SPAN><SPAN 
	LANG="en-nz"></SPAN></A><SPAN LANG="en-nz"></SPAN><SPAN LANG="en-nz"></SPA
	N></P>\n\n<P DIR=LTR><SPAN LANG="en-nz"></SPAN><SPAN LANG="en-nz"></SPAN><
	/P>\n\n<P DIR=LTR><SPAN LANG="en-nz"></SPAN><SPAN LANG="en-nz"></SPAN></P>
	\n\n</BODY>\n</HTML>
X-MICROSOFT-CDO-BUSYSTATUS:BUSY
X-MICROSOFT-CDO-IMPORTANCE:1
X-MICROSOFT-DISALLOW-COUNTER:FALSE
X-MS-OLK-AUTOFILLLOCATION:FALSE
X-MS-OLK-CONFTYPE:0
BEGIN:VALARM
TRIGGER:-PT15M
ACTION:DISPLAY
DESCRIPTION:Reminder
END:VALARM
END:VEVENT
END:VCALENDAR
