BEGIN:VCALENDAR
PRODID:-//Microsoft Corporation//Outlook 14.0 MIMEDIR//EN
VERSION:2.0
METHOD:PUBLISH
X-MS-OLK-FORCEINSPECTOROPEN:TRUE
BEGIN:VTIMEZONE
TZID:New Zealand Standard Time
BEGIN:STANDARD
DTSTART:16010401T030000
RRULE:FREQ=YEARLY;BYDAY=1SU;BYMONTH=4
TZOFFSETFROM:+1300
TZOFFSETTO:+1200
END:STANDARD
BEGIN:DAYLIGHT
DTSTART:16010930T020000
RRULE:FREQ=YEARLY;BYDAY=-1SU;BYMONTH=9
TZOFFSETFROM:+1200
TZOFFSETTO:+1300
END:DAYLIGHT
END:VTIMEZONE
BEGIN:VEVENT
CLASS:PUBLIC
CREATED:20170915T004306Z
DESCRIPTION:Join historian and writer Laurie McCallum for the intriguing st
	ory behind one of the gallery’s most popular paintings - Frank Bramley's
	 For of Such is the Kingdom of Heaven – and how it came to Auckland.\n\n
	http://www.heritagefestival.co.nz/\n\n
DTEND;TZID="New Zealand Standard Time":20171001T160000
DTSTAMP:20170915T004306Z
DTSTART;TZID="New Zealand Standard Time":20171001T150000
LAST-MODIFIED:20170915T004306Z
LOCATION:Auckland Art Gallery Toi o Tāmaki\, corner of Kitchener Street an
	d Wellesley Street\, Auckland Central
PRIORITY:5
SEQUENCE:0
SUMMARY;LANGUAGE=en-nz:Laurie McCallum on George McCulloch (1848-1907) and 
	Frank Bramley's For of Such is the Kingdom of Heaven
TRANSP:OPAQUE
UID:040000008200E00074C5B7101A82E0080000000050B88D2D202ED301000000000000000
	010000000B1569D9C13D1704A96A55220EF6A49AE
X-ALT-DESC;FMTTYPE=text/html:<!DOCTYPE HTML PUBLIC "-//W3C//DTD HTML 3.2//E
	N">\n<HTML>\n<HEAD>\n<META NAME="Generator" CONTENT="MS Exchange Server ve
	rsion 14.02.5004.000">\n<TITLE></TITLE>\n</HEAD>\n<BODY>\n<!-- Converted f
	rom text/rtf format -->\n\n<P DIR=LTR><SPAN LANG="en-nz"></SPAN><SPAN LANG
	="en-nz"><FONT FACE="Arial">Join historian and writer Laurie McCallum for 
	the intriguing story behind one of the gallery’s most popular paintings 
	- Frank Bramley's For of Such is the Kingdom of Heaven – and how it came
	 to Auckland.</FONT></SPAN><SPAN LANG="en-nz"></SPAN><SPAN LANG="en-nz"></
	SPAN></P>\n\n<P DIR=LTR><SPAN LANG="en-nz"></SPAN><A HREF="http://www.heri
	tagefestival.co.nz/"><SPAN LANG="en-nz"></SPAN><SPAN LANG="en-nz"><U><FONT
	 COLOR="#0000FF" FACE="Arial">http://www.heritagefestival.co.nz/</FONT></U
	></SPAN><SPAN LANG="en-nz"></SPAN></A><SPAN LANG="en-nz"></SPAN><SPAN LANG
	="en-nz"></SPAN></P>\n\n<P DIR=LTR><SPAN LANG="en-nz"></SPAN><SPAN LANG="e
	n-nz"></SPAN></P>\n\n</BODY>\n</HTML>
X-MICROSOFT-CDO-BUSYSTATUS:BUSY
X-MICROSOFT-CDO-IMPORTANCE:1
X-MICROSOFT-DISALLOW-COUNTER:FALSE
X-MS-OLK-AUTOFILLLOCATION:FALSE
X-MS-OLK-CONFTYPE:0
BEGIN:VALARM
TRIGGER:-PT15M
ACTION:DISPLAY
DESCRIPTION:Reminder
END:VALARM
END:VEVENT
END:VCALENDAR
