BEGIN:VCALENDAR
PRODID:-//Microsoft Corporation//Outlook 14.0 MIMEDIR//EN
VERSION:2.0
METHOD:PUBLISH
X-MS-OLK-FORCEINSPECTOROPEN:TRUE
BEGIN:VTIMEZONE
TZID:New Zealand Standard Time
BEGIN:STANDARD
DTSTART:16010401T030000
RRULE:FREQ=YEARLY;BYDAY=1SU;BYMONTH=4
TZOFFSETFROM:+1300
TZOFFSETTO:+1200
END:STANDARD
BEGIN:DAYLIGHT
DTSTART:16010930T020000
RRULE:FREQ=YEARLY;BYDAY=-1SU;BYMONTH=9
TZOFFSETFROM:+1200
TZOFFSETTO:+1300
END:DAYLIGHT
END:VTIMEZONE
BEGIN:VEVENT
CLASS:PUBLIC
CREATED:20170801T042457Z
DESCRIPTION:Sunday 1 October and Sunday 8 October\, 9am-1pm\n\nA four hour 
	Māori/European history walking experience following Auckland's vanishing 
	shoreline via the life of pioneer Logan Campbell\, taking in Ōrākei\, Pa
	rnell and the lower city.\n\nhttp://www.heritagefestival.co.nz/\n\n\n\n
DTEND;TZID="New Zealand Standard Time":20171008T130000
DTSTAMP:20170801T042457Z
DTSTART;TZID="New Zealand Standard Time":20171001T090000
LAST-MODIFIED:20170801T042457Z
LOCATION:Ōrākei Road\, Ōrākei Train Station
PRIORITY:5
SEQUENCE:0
SUMMARY;LANGUAGE=en-nz:Logan Campbell History Walk
TRANSP:OPAQUE
UID:040000008200E00074C5B7101A82E00800000000806B36B7E20AD301000000000000000
	01000000081A3EEACEB77154E96D39419A7123A0A
X-ALT-DESC;FMTTYPE=text/html:<!DOCTYPE HTML PUBLIC "-//W3C//DTD HTML 3.2//E
	N">\n<HTML>\n<HEAD>\n<META NAME="Generator" CONTENT="MS Exchange Server ve
	rsion 14.02.5004.000">\n<TITLE></TITLE>\n</HEAD>\n<BODY>\n<!-- Converted f
	rom text/rtf format -->\n\n<P DIR=LTR><SPAN LANG="en-nz"></SPAN><SPAN LANG
	="en-nz"><FONT FACE="Arial">Sunday 1 October and Sunday 8 October\, 9am-1p
	m</FONT></SPAN></P>\n\n<P DIR=LTR><SPAN LANG="en-nz"></SPAN><SPAN LANG="en
	-nz"><FONT FACE="Arial Baltic">A four hour Māori/European history walking
	 experience following Auckland's vanishing shoreline via the life of pione
	er Logan Campbell\, taking in Ōrākei\, Parnell and the lower city.</FONT
	></SPAN></P>\n\n<P DIR=LTR><SPAN LANG="en-nz"></SPAN><SPAN LANG="en-nz"></
	SPAN></P>\n\n<P DIR=LTR><SPAN LANG="en-nz"></SPAN><A HREF="http://www.heri
	tagefestival.co.nz/"><SPAN LANG="en-nz"></SPAN><SPAN LANG="en-nz"><U><FONT
	 COLOR="#0000FF" FACE="Arial">http://www.heritagefestival.co.nz/</FONT></U
	></SPAN><SPAN LANG="en-nz"></SPAN></A><SPAN LANG="en-nz"></SPAN><SPAN LANG
	="en-nz"></SPAN></P>\n\n<P DIR=LTR><SPAN LANG="en-nz"></SPAN><SPAN LANG="e
	n-nz"></SPAN></P>\n\n<P DIR=LTR><SPAN LANG="en-nz"></SPAN><SPAN LANG="en-n
	z"></SPAN></P>\n\n</BODY>\n</HTML>
X-MICROSOFT-CDO-BUSYSTATUS:BUSY
X-MICROSOFT-CDO-IMPORTANCE:1
X-MICROSOFT-DISALLOW-COUNTER:FALSE
X-MS-OLK-AUTOFILLLOCATION:FALSE
X-MS-OLK-CONFTYPE:0
BEGIN:VALARM
TRIGGER:-PT15M
ACTION:DISPLAY
DESCRIPTION:Reminder
END:VALARM
END:VEVENT
END:VCALENDAR
