BEGIN:VCALENDAR
PRODID:-//Microsoft Corporation//Outlook 14.0 MIMEDIR//EN
VERSION:2.0
METHOD:PUBLISH
X-MS-OLK-FORCEINSPECTOROPEN:TRUE
BEGIN:VTIMEZONE
TZID:New Zealand Standard Time
BEGIN:STANDARD
DTSTART:16010401T030000
RRULE:FREQ=YEARLY;BYDAY=1SU;BYMONTH=4
TZOFFSETFROM:+1300
TZOFFSETTO:+1200
END:STANDARD
BEGIN:DAYLIGHT
DTSTART:16010930T020000
RRULE:FREQ=YEARLY;BYDAY=-1SU;BYMONTH=9
TZOFFSETFROM:+1200
TZOFFSETTO:+1300
END:DAYLIGHT
END:VTIMEZONE
BEGIN:VEVENT
CLASS:PUBLIC
CREATED:20170731T014327Z
DESCRIPTION:Saturday 30 September - Sunday 15 October\, Monday - Friday 9am
	–6pm\, Saturday - Sunday 10.30am-4pm\n\nFrom the early hydrographic surv
	eys to AA maps and all the way up to Google's satellite images\, see how W
	aiheke has changed over the decades.\n\nhttp://www.heritagefestival.co.nz/
	\n\n\n\n\n
DTEND;TZID="New Zealand Standard Time":20171015T180000
DTSTAMP:20170731T014327Z
DTSTART;TZID="New Zealand Standard Time":20170930T090000
LAST-MODIFIED:20170731T014327Z
LOCATION:131-133 Ocean View Road\, Waiheke Community Library\, Waiheke Isla
	nd
PRIORITY:5
SEQUENCE:0
SUMMARY;LANGUAGE=en-nz:Mapping our Motu
TRANSP:OPAQUE
UID:040000008200E00074C5B7101A82E0080000000090C840FD020AD301000000000000000
	01000000007F46C6FF1E5BB489374AD42DFB813B5
X-ALT-DESC;FMTTYPE=text/html:<!DOCTYPE HTML PUBLIC "-//W3C//DTD HTML 3.2//E
	N">\n<HTML>\n<HEAD>\n<META NAME="Generator" CONTENT="MS Exchange Server ve
	rsion 14.02.5004.000">\n<TITLE></TITLE>\n</HEAD>\n<BODY>\n<!-- Converted f
	rom text/rtf format -->\n\n<P DIR=LTR><SPAN LANG="en-nz"></SPAN><SPAN LANG
	="en-nz"><FONT FACE="Arial">Saturday 30 September - Sunday 15 October\, Mo
	nday - Friday 9am–6pm\, Saturday - Sunday 10.30am-4pm</FONT></SPAN></P>\
	n\n<P DIR=LTR><SPAN LANG="en-nz"><FONT FACE="Arial">From the early hydrogr
	aphic surveys to AA maps and all the way up to Google's satellite images\,
	 see how Waiheke has changed over the decades.</FONT></SPAN></P>\n\n<P DIR
	=LTR><SPAN LANG="en-nz"></SPAN><A HREF="http://www.heritagefestival.co.nz/
	"><SPAN LANG="en-nz"></SPAN><SPAN LANG="en-nz"><U><FONT COLOR="#0000FF" FA
	CE="Arial">http://www.heritagefestival.co.nz/</FONT></U></SPAN><SPAN LANG=
	"en-nz"></SPAN></A><SPAN LANG="en-nz"></SPAN><SPAN LANG="en-nz"></SPAN></P
	>\n\n<P DIR=LTR><SPAN LANG="en-nz"></SPAN><SPAN LANG="en-nz"></SPAN></P>\n
	\n<P DIR=LTR><SPAN LANG="en-nz"></SPAN><SPAN LANG="en-nz"></SPAN></P>\n\n<
	/BODY>\n</HTML>
X-MICROSOFT-CDO-BUSYSTATUS:BUSY
X-MICROSOFT-CDO-IMPORTANCE:1
X-MICROSOFT-DISALLOW-COUNTER:FALSE
X-MS-OLK-AUTOFILLLOCATION:FALSE
X-MS-OLK-CONFTYPE:0
BEGIN:VALARM
TRIGGER:-PT15M
ACTION:DISPLAY
DESCRIPTION:Reminder
END:VALARM
END:VEVENT
END:VCALENDAR
