BEGIN:VCALENDAR
PRODID:-//Microsoft Corporation//Outlook 14.0 MIMEDIR//EN
VERSION:2.0
METHOD:PUBLISH
X-MS-OLK-FORCEINSPECTOROPEN:TRUE
BEGIN:VTIMEZONE
TZID:New Zealand Standard Time
BEGIN:STANDARD
DTSTART:16010401T030000
RRULE:FREQ=YEARLY;BYDAY=1SU;BYMONTH=4
TZOFFSETFROM:+1300
TZOFFSETTO:+1200
END:STANDARD
BEGIN:DAYLIGHT
DTSTART:16010930T020000
RRULE:FREQ=YEARLY;BYDAY=-1SU;BYMONTH=9
TZOFFSETFROM:+1200
TZOFFSETTO:+1300
END:DAYLIGHT
END:VTIMEZONE
BEGIN:VEVENT
CLASS:PUBLIC
CREATED:20170801T234436Z
DESCRIPTION:Friday 13 October\, 9am-5pm and Saturday 14 October\, 9am-4pm\n
	\nWatch a video capturing personal stories and memories of people who live
	d in Auckland during the 1950s and 60s. Filmed by Everall Deans.\n\nhttp:/
	/www.heritagefestival.co.nz/\n\n
DTEND;TZID="New Zealand Standard Time":20171013T170000
DTSTAMP:20170801T234436Z
DTSTART;TZID="New Zealand Standard Time":20171013T090000
LAST-MODIFIED:20170801T234436Z
LOCATION:1 Ponsonby Road\, Room 10 (upstairs)\, Studio One - Toi Tū\, Pons
	onby
PRIORITY:5
SEQUENCE:0
SUMMARY;LANGUAGE=en-nz:Memories of Auckland Past
TRANSP:OPAQUE
UID:040000008200E00074C5B7101A82E0080000000090FA26B7840BD301000000000000000
	010000000B61C4E805A5AA34FBBB5B8BF8CE222E9
X-ALT-DESC;FMTTYPE=text/html:<!DOCTYPE HTML PUBLIC "-//W3C//DTD HTML 3.2//E
	N">\n<HTML>\n<HEAD>\n<META NAME="Generator" CONTENT="MS Exchange Server ve
	rsion 14.02.5004.000">\n<TITLE></TITLE>\n</HEAD>\n<BODY>\n<!-- Converted f
	rom text/rtf format -->\n\n<P DIR=LTR><SPAN LANG="en-nz"></SPAN><SPAN LANG
	="en-nz"><FONT FACE="Arial">Friday 13 October\, 9am-5pm and Saturday 14 Oc
	tober\, 9am-4pm</FONT></SPAN><SPAN LANG="en-nz"></SPAN><SPAN LANG="en-nz">
	</SPAN></P>\n\n<P DIR=LTR><SPAN LANG="en-nz"></SPAN><SPAN LANG="en-nz"></S
	PAN></P>\n\n<P DIR=LTR><SPAN LANG="en-nz"></SPAN><SPAN LANG="en-nz"><FONT 
	FACE="Arial">Watch a video capturing personal stories and memories of peop
	le who lived in Auckland during the 1950s and 60s. Filmed by Everall Deans
	.</FONT></SPAN></P>\n\n<P DIR=LTR><SPAN LANG="en-nz"></SPAN><A HREF="http:
	//www.heritagefestival.co.nz/"><SPAN LANG="en-nz"></SPAN><SPAN LANG="en-nz
	"><U><FONT COLOR="#0000FF" FACE="Arial">http://www.heritagefestival.co.nz/
	</FONT></U></SPAN><SPAN LANG="en-nz"></SPAN></A><SPAN LANG="en-nz"></SPAN>
	<SPAN LANG="en-nz"></SPAN></P>\n\n<P DIR=LTR><SPAN LANG="en-nz"></SPAN><SP
	AN LANG="en-nz"></SPAN></P>\n\n</BODY>\n</HTML>
X-MICROSOFT-CDO-BUSYSTATUS:BUSY
X-MICROSOFT-CDO-IMPORTANCE:1
X-MICROSOFT-DISALLOW-COUNTER:FALSE
X-MS-OLK-AUTOFILLLOCATION:FALSE
X-MS-OLK-CONFTYPE:0
BEGIN:VALARM
TRIGGER:-PT15M
ACTION:DISPLAY
DESCRIPTION:Reminder
END:VALARM
END:VEVENT
END:VCALENDAR
