BEGIN:VCALENDAR
PRODID:-//Microsoft Corporation//Outlook 14.0 MIMEDIR//EN
VERSION:2.0
METHOD:PUBLISH
X-MS-OLK-FORCEINSPECTOROPEN:TRUE
BEGIN:VTIMEZONE
TZID:New Zealand Standard Time
BEGIN:STANDARD
DTSTART:16010401T030000
RRULE:FREQ=YEARLY;BYDAY=1SU;BYMONTH=4
TZOFFSETFROM:+1300
TZOFFSETTO:+1200
END:STANDARD
BEGIN:DAYLIGHT
DTSTART:16010930T020000
RRULE:FREQ=YEARLY;BYDAY=-1SU;BYMONTH=9
TZOFFSETFROM:+1200
TZOFFSETTO:+1300
END:DAYLIGHT
END:VTIMEZONE
BEGIN:VEVENT
CLASS:PUBLIC
CREATED:20171011T021636Z
DESCRIPTION:In 1917 Felix von Luckner\, with other POWs\, made a daring esc
	ape from Motuihe Island. Take the ferry to the island for talks\, pictoria
	l history and a guided walk.\n\nhttp://www.heritagefestival.co.nz/\n\n
DTEND;TZID="New Zealand Standard Time":20171105T160000
DTSTAMP:20170731T235908Z
DTSTART;TZID="New Zealand Standard Time":20171105T090000
LAST-MODIFIED:20171011T021636Z
LOCATION:Motuihe Island\, Hauraki Gulf
PRIORITY:5
SEQUENCE:0
SUMMARY;LANGUAGE=en-nz:Motuihe Island centenary of Count Felix von Luckner'
	s daring WWI Prison of War Escape
TRANSP:OPAQUE
UID:040000008200E00074C5B7101A82E0080000000070953E10BD0AD301000000000000000
	0100000003FB5009DC5B2914EAA46F5E9FBC0556A
X-ALT-DESC;FMTTYPE=text/html:<!DOCTYPE HTML PUBLIC "-//W3C//DTD HTML 3.2//E
	N">\n<HTML>\n<HEAD>\n<META NAME="Generator" CONTENT="MS Exchange Server ve
	rsion 14.02.5004.000">\n<TITLE></TITLE>\n</HEAD>\n<BODY>\n<!-- Converted f
	rom text/rtf format -->\n\n<P DIR=LTR><SPAN LANG="en-nz"></SPAN><SPAN LANG
	="en-nz"></SPAN><SPAN LANG="en-nz"><FONT FACE="Arial">Postponed until Sund
	ay 5 November.</FONT></SPAN></P>\n\n<P DIR=LTR><SPAN LANG="en-nz"></SPAN><
	SPAN LANG="en-nz"></SPAN><SPAN LANG="en-nz"><FONT FACE="Arial">In 1917 Fel
	ix von Luckner\, with other POWs\, made a daring escape from Motuihe Islan
	d. Take the ferry to the island for talks\, pictorial history and a guided
	 walk.</FONT></SPAN></P>\n\n<P DIR=LTR><SPAN LANG="en-nz"></SPAN><A HREF="
	http://www.heritagefestival.co.nz/"><SPAN LANG="en-nz"></SPAN><SPAN LANG="
	en-nz"></SPAN><SPAN LANG="en-nz"><U><FONT COLOR="#0000FF" FACE="Arial">htt
	p://www.heritagefestival.co.nz/</FONT></U></SPAN><SPAN LANG="en-nz"></SPAN
	></A><SPAN LANG="en-nz"></SPAN><SPAN LANG="en-nz"></SPAN><SPAN LANG="en-nz
	"></SPAN></P>\n\n</BODY>\n</HTML>
X-MICROSOFT-CDO-BUSYSTATUS:BUSY
X-MICROSOFT-CDO-IMPORTANCE:1
X-MICROSOFT-DISALLOW-COUNTER:FALSE
X-MS-OLK-AUTOFILLLOCATION:FALSE
X-MS-OLK-CONFTYPE:0
END:VEVENT
END:VCALENDAR
