BEGIN:VCALENDAR
PRODID:-//Microsoft Corporation//Outlook 14.0 MIMEDIR//EN
VERSION:2.0
METHOD:PUBLISH
X-MS-OLK-FORCEINSPECTOROPEN:TRUE
BEGIN:VTIMEZONE
TZID:New Zealand Standard Time
BEGIN:STANDARD
DTSTART:16010401T030000
RRULE:FREQ=YEARLY;BYDAY=1SU;BYMONTH=4
TZOFFSETFROM:+1300
TZOFFSETTO:+1200
END:STANDARD
BEGIN:DAYLIGHT
DTSTART:16010930T020000
RRULE:FREQ=YEARLY;BYDAY=-1SU;BYMONTH=9
TZOFFSETFROM:+1200
TZOFFSETTO:+1300
END:DAYLIGHT
END:VTIMEZONE
BEGIN:VEVENT
CLASS:PUBLIC
CREATED:20170801T035315Z
DESCRIPTION:Discover waterways\, reserves and rock gardens on a guided walk
	 from the Mountain Fountain in Parnell's Holy Trinity Cathedral to the sum
	mit of Mt Eden.\n\nhttp://www.heritagefestival.co.nz/\n\n
DTEND;TZID="New Zealand Standard Time":20170907T160000
DTSTAMP:20170801T035315Z
DTSTART;TZID="New Zealand Standard Time":20170907T103000
LAST-MODIFIED:20170801T035315Z
LOCATION:Corner of Parnell Road and St Stephens Avenue\, Forecourt of Holy 
	Trinity Cathedral\, Parnell
PRIORITY:5
SEQUENCE:0
SUMMARY;LANGUAGE=en-nz:Mountain Fountain to Mountain Top: An Urban Bush Wal
	k from Parnell to Maungawhau
TRANSP:OPAQUE
UID:040000008200E00074C5B7101A82E0080000000070455749DE0AD301000000000000000
	0100000001A8B7CF04EDFC647AA896BE63CEE405F
X-ALT-DESC;FMTTYPE=text/html:<!DOCTYPE HTML PUBLIC "-//W3C//DTD HTML 3.2//E
	N">\n<HTML>\n<HEAD>\n<META NAME="Generator" CONTENT="MS Exchange Server ve
	rsion 14.02.5004.000">\n<TITLE></TITLE>\n</HEAD>\n<BODY>\n<!-- Converted f
	rom text/rtf format -->\n\n<P DIR=LTR><SPAN LANG="en-nz"></SPAN><SPAN LANG
	="en-nz"><FONT FACE="Arial">Discover waterways\, reserves and rock gardens
	 on a guided walk from the Mountain Fountain in Parnell's Holy Trinity Cat
	hedral to the summit of Mt Eden.</FONT></SPAN></P>\n\n<P DIR=LTR><SPAN LAN
	G="en-nz"></SPAN><A HREF="http://www.heritagefestival.co.nz/"><SPAN LANG="
	en-nz"></SPAN><SPAN LANG="en-nz"><U><FONT COLOR="#0000FF" FACE="Arial">htt
	p://www.heritagefestival.co.nz/</FONT></U></SPAN><SPAN LANG="en-nz"></SPAN
	></A><SPAN LANG="en-nz"></SPAN><SPAN LANG="en-nz"></SPAN></P>\n\n<P DIR=LT
	R><SPAN LANG="en-nz"></SPAN><SPAN LANG="en-nz"></SPAN></P>\n\n</BODY>\n</H
	TML>
X-MICROSOFT-CDO-BUSYSTATUS:BUSY
X-MICROSOFT-CDO-IMPORTANCE:1
X-MICROSOFT-DISALLOW-COUNTER:FALSE
X-MS-OLK-AUTOFILLLOCATION:FALSE
X-MS-OLK-CONFTYPE:0
BEGIN:VALARM
TRIGGER:-PT15M
ACTION:DISPLAY
DESCRIPTION:Reminder
END:VALARM
END:VEVENT
END:VCALENDAR
