BEGIN:VCALENDAR
PRODID:-//Microsoft Corporation//Outlook 14.0 MIMEDIR//EN
VERSION:2.0
METHOD:PUBLISH
X-MS-OLK-FORCEINSPECTOROPEN:TRUE
BEGIN:VTIMEZONE
TZID:New Zealand Standard Time
BEGIN:STANDARD
DTSTART:16010401T030000
RRULE:FREQ=YEARLY;BYDAY=1SU;BYMONTH=4
TZOFFSETFROM:+1300
TZOFFSETTO:+1200
END:STANDARD
BEGIN:DAYLIGHT
DTSTART:16010930T020000
RRULE:FREQ=YEARLY;BYDAY=-1SU;BYMONTH=9
TZOFFSETFROM:+1200
TZOFFSETTO:+1300
END:DAYLIGHT
END:VTIMEZONE
BEGIN:VEVENT
CLASS:PUBLIC
CREATED:20170731T011446Z
DESCRIPTION:Come along to the Pukekohe Pioneer Cottage and discover photogr
	aphs of early transport in the area\, including the railway station.\n\nht
	tp://www.heritagefestival.co.nz/\n\n\n
DTEND;TZID="New Zealand Standard Time":20171015T153000
DTSTAMP:20170731T011446Z
DTSTART;TZID="New Zealand Standard Time":20171001T120000
LAST-MODIFIED:20170731T011446Z
LOCATION:Roulston Park\, corner of East Street and Stadium Drive\, Pukekohe
	's Pioneer Cottage\, Pukekohe
PRIORITY:5
SEQUENCE:0
SUMMARY;LANGUAGE=en-nz:Moving Forward: Transport in Pukekohe
TRANSP:OPAQUE
UID:040000008200E00074C5B7101A82E0080000000000B83CFBFE09D301000000000000000
	01000000058AF8AE6993AF944AEE687F881436E55
X-ALT-DESC;FMTTYPE=text/html:<!DOCTYPE HTML PUBLIC "-//W3C//DTD HTML 3.2//E
	N">\n<HTML>\n<HEAD>\n<META NAME="Generator" CONTENT="MS Exchange Server ve
	rsion 14.02.5004.000">\n<TITLE></TITLE>\n</HEAD>\n<BODY>\n<!-- Converted f
	rom text/rtf format -->\n\n<P DIR=LTR><SPAN LANG="en-nz"></SPAN><SPAN LANG
	="en-nz"><FONT FACE="Arial">Come along to the Pukekohe Pioneer Cottage and
	 discover photographs of early transport in the area\, including the railw
	ay station.</FONT></SPAN></P>\n\n<P DIR=LTR><SPAN LANG="en-nz"></SPAN><A H
	REF="http://www.heritagefestival.co.nz/"><SPAN LANG="en-nz"></SPAN><SPAN L
	ANG="en-nz"><U><FONT COLOR="#0000FF" FACE="Arial">http://www.heritagefesti
	val.co.nz/</FONT></U></SPAN><SPAN LANG="en-nz"></SPAN></A><SPAN LANG="en-n
	z"></SPAN><SPAN LANG="en-nz"></SPAN></P>\n\n<P DIR=LTR><SPAN LANG="en-nz">
	</SPAN><SPAN LANG="en-nz"></SPAN></P>\n\n<P DIR=LTR><SPAN LANG="en-nz"></S
	PAN><SPAN LANG="en-nz"></SPAN></P>\n\n</BODY>\n</HTML>
X-MICROSOFT-CDO-BUSYSTATUS:BUSY
X-MICROSOFT-CDO-IMPORTANCE:1
X-MICROSOFT-DISALLOW-COUNTER:FALSE
X-MS-OLK-AUTOFILLLOCATION:FALSE
X-MS-OLK-CONFTYPE:0
BEGIN:VALARM
TRIGGER:-PT15M
ACTION:DISPLAY
DESCRIPTION:Reminder
END:VALARM
END:VEVENT
END:VCALENDAR
