BEGIN:VCALENDAR
PRODID:-//Microsoft Corporation//Outlook 14.0 MIMEDIR//EN
VERSION:2.0
METHOD:PUBLISH
X-MS-OLK-FORCEINSPECTOROPEN:TRUE
BEGIN:VTIMEZONE
TZID:New Zealand Standard Time
BEGIN:STANDARD
DTSTART:16010401T030000
RRULE:FREQ=YEARLY;BYDAY=1SU;BYMONTH=4
TZOFFSETFROM:+1300
TZOFFSETTO:+1200
END:STANDARD
BEGIN:DAYLIGHT
DTSTART:16010930T020000
RRULE:FREQ=YEARLY;BYDAY=-1SU;BYMONTH=9
TZOFFSETFROM:+1200
TZOFFSETTO:+1300
END:DAYLIGHT
END:VTIMEZONE
BEGIN:VEVENT
CLASS:PUBLIC
CREATED:20170802T014712Z
DESCRIPTION:Saturday 30 September\, Saturday 7 October and Saturday 14 Octo
	ber\, 10am-11am and 2pm-3pm\n\nExperienced guides unravel the story of Mau
	ngawhau-Mt Eden. \n\nhttp://www.heritagefestival.co.nz/\n\n
DTEND;TZID="New Zealand Standard Time":20171014T150000
DTSTAMP:20170802T014712Z
DTSTART;TZID="New Zealand Standard Time":20170930T100000
LAST-MODIFIED:20170802T014712Z
LOCATION:1 Valley Road\, Valley Road International Church\, Mt Eden
PRIORITY:5
SEQUENCE:0
SUMMARY;LANGUAGE=en-nz:Mt Eden 2017 Heritage Walk
TRANSP:OPAQUE
UID:040000008200E00074C5B7101A82E00800000000C09623D8950BD301000000000000000
	0100000005118519FBE5AC9458BFB9550CB108C4F
X-ALT-DESC;FMTTYPE=text/html:<!DOCTYPE HTML PUBLIC "-//W3C//DTD HTML 3.2//E
	N">\n<HTML>\n<HEAD>\n<META NAME="Generator" CONTENT="MS Exchange Server ve
	rsion 14.02.5004.000">\n<TITLE></TITLE>\n</HEAD>\n<BODY>\n<!-- Converted f
	rom text/rtf format -->\n\n<P DIR=LTR><SPAN LANG="en-nz"></SPAN><SPAN LANG
	="en-nz"><FONT FACE="Arial">Saturday 30 September\, Saturday 7 October and
	 Saturday 14 October\, 10am-11am and 2pm-3pm</FONT></SPAN></P>\n\n<P DIR=L
	TR><SPAN LANG="en-nz"><FONT FACE="Arial">Experienced guides unravel the st
	ory of Maungawhau-Mt Eden. </FONT></SPAN></P>\n\n<P DIR=LTR><SPAN LANG="en
	-nz"></SPAN><A HREF="http://www.heritagefestival.co.nz/"><SPAN LANG="en-nz
	"></SPAN><SPAN LANG="en-nz"><U><FONT COLOR="#0000FF" FACE="Arial">http://w
	ww.heritagefestival.co.nz/</FONT></U></SPAN><SPAN LANG="en-nz"></SPAN></A>
	<SPAN LANG="en-nz"></SPAN><SPAN LANG="en-nz"></SPAN></P>\n\n<P DIR=LTR><SP
	AN LANG="en-nz"></SPAN><SPAN LANG="en-nz"></SPAN></P>\n\n</BODY>\n</HTML>
X-MICROSOFT-CDO-BUSYSTATUS:BUSY
X-MICROSOFT-CDO-IMPORTANCE:1
X-MICROSOFT-DISALLOW-COUNTER:FALSE
X-MS-OLK-AUTOFILLLOCATION:FALSE
X-MS-OLK-CONFTYPE:0
BEGIN:VALARM
TRIGGER:-PT15M
ACTION:DISPLAY
DESCRIPTION:Reminder
END:VALARM
END:VEVENT
END:VCALENDAR
