BEGIN:VCALENDAR
PRODID:-//Microsoft Corporation//Outlook 14.0 MIMEDIR//EN
VERSION:2.0
METHOD:PUBLISH
X-MS-OLK-FORCEINSPECTOROPEN:TRUE
BEGIN:VTIMEZONE
TZID:New Zealand Standard Time
BEGIN:STANDARD
DTSTART:16010401T030000
RRULE:FREQ=YEARLY;BYDAY=1SU;BYMONTH=4
TZOFFSETFROM:+1300
TZOFFSETTO:+1200
END:STANDARD
BEGIN:DAYLIGHT
DTSTART:16010930T020000
RRULE:FREQ=YEARLY;BYDAY=-1SU;BYMONTH=9
TZOFFSETFROM:+1200
TZOFFSETTO:+1300
END:DAYLIGHT
END:VTIMEZONE
BEGIN:VEVENT
CLASS:PUBLIC
CREATED:20170731T002543Z
DESCRIPTION:Listen to a free lecture on Myrtle Rust by Dr Nick Waipara from
	 Auckland Council\, as part of The Tree Council's AGM.\n\nhttp://www.herit
	agefestival.co.nz/\n\n
DTEND;TZID="New Zealand Standard Time":20171012T210000
DTSTAMP:20170731T002543Z
DTSTART;TZID="New Zealand Standard Time":20171012T190000
LAST-MODIFIED:20170731T002543Z
LOCATION:546 Mount Albert Road\, Lynfield Room\, The Fickling Centre\, Thre
	e Kings
PRIORITY:5
SEQUENCE:0
SUMMARY;LANGUAGE=en-nz:Myrtle Rust and other threats to Auckland's Heritage
	 Trees
TRANSP:OPAQUE
UID:040000008200E00074C5B7101A82E00800000000F03CE520F809D301000000000000000
	01000000092819F6009E8EE479409151407790132
X-ALT-DESC;FMTTYPE=text/html:<!DOCTYPE HTML PUBLIC "-//W3C//DTD HTML 3.2//E
	N">\n<HTML>\n<HEAD>\n<META NAME="Generator" CONTENT="MS Exchange Server ve
	rsion 14.02.5004.000">\n<TITLE></TITLE>\n</HEAD>\n<BODY>\n<!-- Converted f
	rom text/rtf format -->\n\n<P DIR=LTR><SPAN LANG="en-nz"></SPAN><SPAN LANG
	="en-nz"><FONT FACE="Arial">Listen to a free lecture on Myrtle Rust by Dr 
	Nick Waipara from Auckland Council\, as part of The Tree Council's AGM.</F
	ONT></SPAN></P>\n\n<P DIR=LTR><SPAN LANG="en-nz"><FONT FACE="Arial"><A HRE
	F="http://www.heritagefestival.co.nz/">http://www.heritagefestival.co.nz/<
	/A></FONT></SPAN></P>\n\n<P DIR=LTR><SPAN LANG="en-nz"></SPAN><SPAN LANG="
	en-nz"></SPAN></P>\n\n</BODY>\n</HTML>
X-MICROSOFT-CDO-BUSYSTATUS:BUSY
X-MICROSOFT-CDO-IMPORTANCE:1
X-MICROSOFT-DISALLOW-COUNTER:FALSE
X-MS-OLK-AUTOFILLLOCATION:FALSE
X-MS-OLK-CONFTYPE:0
BEGIN:VALARM
TRIGGER:-PT15M
ACTION:DISPLAY
DESCRIPTION:Reminder
END:VALARM
END:VEVENT
END:VCALENDAR
