BEGIN:VCALENDAR
PRODID:-//Microsoft Corporation//Outlook 14.0 MIMEDIR//EN
VERSION:2.0
METHOD:PUBLISH
X-MS-OLK-FORCEINSPECTOROPEN:TRUE
BEGIN:VTIMEZONE
TZID:New Zealand Standard Time
BEGIN:STANDARD
DTSTART:16010401T030000
RRULE:FREQ=YEARLY;BYDAY=1SU;BYMONTH=4
TZOFFSETFROM:+1300
TZOFFSETTO:+1200
END:STANDARD
BEGIN:DAYLIGHT
DTSTART:16010930T020000
RRULE:FREQ=YEARLY;BYDAY=-1SU;BYMONTH=9
TZOFFSETFROM:+1200
TZOFFSETTO:+1300
END:DAYLIGHT
END:VTIMEZONE
BEGIN:VEVENT
CLASS:PUBLIC
CREATED:20170727T215810Z
DESCRIPTION:Learn and appreciate the transformation of Newmarket from its b
	eginnings as sale yards for livestock through to its heyday as an independ
	ent borough.\n\nSunday 1 October and Sunday 15 October\, 9am-10.30am\n\nht
	tp://www.heritagefestival.co.nz/\n\n
DTEND;TZID="New Zealand Standard Time":20171015T103000
DTSTAMP:20170727T215810Z
DTSTART;TZID="New Zealand Standard Time":20171001T093000
LAST-MODIFIED:20170727T215810Z
LOCATION:6 Seccombs Road\, Old School Building\, Newmarket\, Auckland
PRIORITY:5
SEQUENCE:0
SUMMARY;LANGUAGE=en-nz:Newmarket
TRANSP:OPAQUE
UID:040000008200E00074C5B7101A82E00800000000B00939008107D301000000000000000
	010000000BD2900B9B0861B41BAB232089BC965DA
X-ALT-DESC;FMTTYPE=text/html:<!DOCTYPE HTML PUBLIC "-//W3C//DTD HTML 3.2//E
	N">\n<HTML>\n<HEAD>\n<META NAME="Generator" CONTENT="MS Exchange Server ve
	rsion 14.02.5004.000">\n<TITLE></TITLE>\n</HEAD>\n<BODY>\n<!-- Converted f
	rom text/rtf format -->\n\n<P DIR=LTR><SPAN LANG="en-nz"></SPAN><SPAN LANG
	="en-nz"><FONT FACE="Arial">Learn and appreciate the transformation of New
	market from its beginnings as sale yards for livestock through to its heyd
	ay as an independent borough.</FONT></SPAN><SPAN LANG="en-nz"></SPAN><SPAN
	 LANG="en-nz"></SPAN></P>\n\n<P DIR=LTR><SPAN LANG="en-nz"></SPAN><SPAN LA
	NG="en-nz"><FONT FACE="Arial">Sunday 1 October and Sunday 15 October\, 9am
	-10.30am</FONT></SPAN><SPAN LANG="en-nz"></SPAN><SPAN LANG="en-nz"></SPAN>
	</P>\n\n<P DIR=LTR><SPAN LANG="en-nz"></SPAN><A HREF="http://www.heritagef
	estival.co.nz/"><SPAN LANG="en-nz"></SPAN><SPAN LANG="en-nz"><U><FONT COLO
	R="#0000FF" FACE="Arial">http://www.heritagefestival.co.nz/</FONT></U></SP
	AN><SPAN LANG="en-nz"></SPAN></A><SPAN LANG="en-nz"></SPAN><SPAN LANG="en-
	nz"></SPAN></P>\n\n<P DIR=LTR><SPAN LANG="en-nz"></SPAN><SPAN LANG="en-nz"
	></SPAN></P>\n\n</BODY>\n</HTML>
X-MICROSOFT-CDO-BUSYSTATUS:BUSY
X-MICROSOFT-CDO-IMPORTANCE:1
X-MICROSOFT-DISALLOW-COUNTER:FALSE
X-MS-OLK-AUTOFILLLOCATION:FALSE
X-MS-OLK-CONFTYPE:0
BEGIN:VALARM
TRIGGER:-PT15M
ACTION:DISPLAY
DESCRIPTION:Reminder
END:VALARM
END:VEVENT
END:VCALENDAR
