BEGIN:VCALENDAR
PRODID:-//Microsoft Corporation//Outlook 14.0 MIMEDIR//EN
VERSION:2.0
METHOD:PUBLISH
X-MS-OLK-FORCEINSPECTOROPEN:TRUE
BEGIN:VTIMEZONE
TZID:New Zealand Standard Time
BEGIN:STANDARD
DTSTART:16010401T030000
RRULE:FREQ=YEARLY;BYDAY=1SU;BYMONTH=4
TZOFFSETFROM:+1300
TZOFFSETTO:+1200
END:STANDARD
BEGIN:DAYLIGHT
DTSTART:16010930T020000
RRULE:FREQ=YEARLY;BYDAY=-1SU;BYMONTH=9
TZOFFSETFROM:+1200
TZOFFSETTO:+1300
END:DAYLIGHT
END:VTIMEZONE
BEGIN:VEVENT
CLASS:PUBLIC
CREATED:20170801T052203Z
DESCRIPTION:Pick up a booklet: Saturday 30 September - Sunday 15 October\, 
	10am-5pm\nTalk at Ziera Shoes: Thursday 5 October\, 11am\n\nPick up a book
	let at our shoe stores to celebrate Newmarket’s footwear families and co
	me and listen to the talk on 'Three Generations of Shoes.'\n\nhttp://www.h
	eritagefestival.co.nz/\n\n\n\n\n\n
DTEND;TZID="New Zealand Standard Time":20171015T170000
DTSTAMP:20170801T052203Z
DTSTART;TZID="New Zealand Standard Time":20170930T100000
LAST-MODIFIED:20170801T052203Z
LOCATION:Ziera Shoes on Broadway\, Newmarket
PRIORITY:5
SEQUENCE:0
SUMMARY;LANGUAGE=en-nz:Newmarket Presents: Stepping Back and Stepping Out
TRANSP:OPAQUE
UID:040000008200E00074C5B7101A82E00800000000A04747B1EA0AD301000000000000000
	010000000ED093285429CE3498D06DCB75B41EE2E
X-ALT-DESC;FMTTYPE=text/html:<!DOCTYPE HTML PUBLIC "-//W3C//DTD HTML 3.2//E
	N">\n<HTML>\n<HEAD>\n<META NAME="Generator" CONTENT="MS Exchange Server ve
	rsion 14.02.5004.000">\n<TITLE></TITLE>\n</HEAD>\n<BODY>\n<!-- Converted f
	rom text/rtf format -->\n\n<P DIR=LTR><SPAN LANG="en-nz"></SPAN><SPAN LANG
	="en-nz"><FONT FACE="Arial">Pick up a booklet: Saturday 30 September - Sun
	day 15 October\, 10am-5pm</FONT></SPAN></P>\n\n<P DIR=LTR><SPAN LANG="en-n
	z"><FONT FACE="Arial">Talk at Ziera Shoes: Thursday 5 October\, 11am</FONT
	></SPAN></P>\n\n<P DIR=LTR><SPAN LANG="en-nz"><FONT FACE="Arial">Pick up a
	 booklet at our shoe stores to celebrate Newmarket’s footwear families a
	nd come and listen to the talk on 'Three Generations of Shoes.'</FONT></SP
	AN></P>\n\n<P DIR=LTR><SPAN LANG="en-nz"></SPAN><A HREF="http://www.herita
	gefestival.co.nz/"><SPAN LANG="en-nz"></SPAN><SPAN LANG="en-nz"><U><FONT C
	OLOR="#0000FF" FACE="Arial">http://www.heritagefestival.co.nz/</FONT></U><
	/SPAN><SPAN LANG="en-nz"></SPAN></A><SPAN LANG="en-nz"></SPAN><SPAN LANG="
	en-nz"></SPAN></P>\n\n<P DIR=LTR><SPAN LANG="en-nz"></SPAN><SPAN LANG="en-
	nz"></SPAN></P>\n<BR>\n<BR>\n\n<P DIR=LTR><SPAN LANG="en-nz"></SPAN><SPAN 
	LANG="en-nz"></SPAN></P>\n\n</BODY>\n</HTML>
X-MICROSOFT-CDO-BUSYSTATUS:BUSY
X-MICROSOFT-CDO-IMPORTANCE:1
X-MICROSOFT-DISALLOW-COUNTER:FALSE
X-MS-OLK-AUTOFILLLOCATION:FALSE
X-MS-OLK-CONFTYPE:0
BEGIN:VALARM
TRIGGER:-PT15M
ACTION:DISPLAY
DESCRIPTION:Reminder
END:VALARM
END:VEVENT
END:VCALENDAR
