BEGIN:VCALENDAR
PRODID:-//Microsoft Corporation//Outlook 14.0 MIMEDIR//EN
VERSION:2.0
METHOD:PUBLISH
X-MS-OLK-FORCEINSPECTOROPEN:TRUE
BEGIN:VTIMEZONE
TZID:New Zealand Standard Time
BEGIN:STANDARD
DTSTART:16010401T030000
RRULE:FREQ=YEARLY;BYDAY=1SU;BYMONTH=4
TZOFFSETFROM:+1300
TZOFFSETTO:+1200
END:STANDARD
BEGIN:DAYLIGHT
DTSTART:16010930T020000
RRULE:FREQ=YEARLY;BYDAY=-1SU;BYMONTH=9
TZOFFSETFROM:+1200
TZOFFSETTO:+1300
END:DAYLIGHT
END:VTIMEZONE
BEGIN:VEVENT
CLASS:PUBLIC
CREATED:20170731T001147Z
DESCRIPTION:Enjoy an Edwardian afternoon tea\, served on our collection of 
	fine bone china on hand embroidered tablecloths. Entertainment will be pro
	vided by Highland dancers.\n\nhttp://www.heritagefestival.co.nz/\n\n\n
DTEND;TZID="New Zealand Standard Time":20171008T170000
DTSTAMP:20170731T001147Z
DTSTART;TZID="New Zealand Standard Time":20171008T150000
LAST-MODIFIED:20170731T001147Z
LOCATION:83 Selwyn Street\, Onehunga Community House\, Onehunga
PRIORITY:5
SEQUENCE:0
SUMMARY;LANGUAGE=en-nz:Onehunga Presents: Edwardian Afternoon Tea
TRANSP:OPAQUE
UID:040000008200E00074C5B7101A82E00800000000408D842EF609D301000000000000000
	0100000009DC7F93AB7701A46B70FB98B5D23334A
X-ALT-DESC;FMTTYPE=text/html:<!DOCTYPE HTML PUBLIC "-//W3C//DTD HTML 3.2//E
	N">\n<HTML>\n<HEAD>\n<META NAME="Generator" CONTENT="MS Exchange Server ve
	rsion 14.02.5004.000">\n<TITLE></TITLE>\n</HEAD>\n<BODY>\n<!-- Converted f
	rom text/rtf format -->\n\n<P DIR=LTR><SPAN LANG="en-nz"></SPAN><SPAN LANG
	="en-nz"><FONT FACE="Arial">Enjoy an Edwardian afternoon tea\, served on o
	ur collection of fine bone china on hand embroidered tablecloths. Entertai
	nment will be provided by Highland dancers.</FONT></SPAN></P>\n\n<P DIR=LT
	R><SPAN LANG="en-nz"></SPAN><A HREF="http://www.heritagefestival.co.nz/"><
	SPAN LANG="en-nz"></SPAN><SPAN LANG="en-nz"><U><FONT COLOR="#0000FF" FACE=
	"Arial">http://www.heritagefestival.co.nz/</FONT></U></SPAN><SPAN LANG="en
	-nz"></SPAN></A><SPAN LANG="en-nz"></SPAN><SPAN LANG="en-nz"></SPAN></P>\n
	\n<P DIR=LTR><SPAN LANG="en-nz"></SPAN><SPAN LANG="en-nz"></SPAN></P>\n\n<
	P DIR=LTR><SPAN LANG="en-nz"></SPAN><SPAN LANG="en-nz"></SPAN></P>\n\n</BO
	DY>\n</HTML>
X-MICROSOFT-CDO-BUSYSTATUS:BUSY
X-MICROSOFT-CDO-IMPORTANCE:1
X-MICROSOFT-DISALLOW-COUNTER:FALSE
X-MS-OLK-AUTOFILLLOCATION:FALSE
X-MS-OLK-CONFTYPE:0
BEGIN:VALARM
TRIGGER:-PT15M
ACTION:DISPLAY
DESCRIPTION:Reminder
END:VALARM
END:VEVENT
END:VCALENDAR
