BEGIN:VCALENDAR
PRODID:-//Microsoft Corporation//Outlook 14.0 MIMEDIR//EN
VERSION:2.0
METHOD:PUBLISH
X-MS-OLK-FORCEINSPECTOROPEN:TRUE
BEGIN:VTIMEZONE
TZID:New Zealand Standard Time
BEGIN:STANDARD
DTSTART:16010401T030000
RRULE:FREQ=YEARLY;BYDAY=1SU;BYMONTH=4
TZOFFSETFROM:+1300
TZOFFSETTO:+1200
END:STANDARD
BEGIN:DAYLIGHT
DTSTART:16010930T020000
RRULE:FREQ=YEARLY;BYDAY=-1SU;BYMONTH=9
TZOFFSETFROM:+1200
TZOFFSETTO:+1300
END:DAYLIGHT
END:VTIMEZONE
BEGIN:VEVENT
CLASS:PUBLIC
CREATED:20170727T234923Z
DESCRIPTION:Three historic buildings - Journeys End\, Laishley House and Bl
	ockhouse - of the 1850-1860 era will be open for viewing\, featuring trans
	port-themed displays.\n\nhttp://www.heritagefestival.co.nz/\n\n
DTEND;TZID="New Zealand Standard Time":20171015T160000
DTSTAMP:20170727T234923Z
DTSTART;TZID="New Zealand Standard Time":20171001T133000
LAST-MODIFIED:20170727T234923Z
LOCATION:Corner of Quadrant Road and Grey Street\, Jellicoe Park\, Onehunga
PRIORITY:5
SEQUENCE:0
SUMMARY;LANGUAGE=en-nz:Onehunga Presents: Her Heritage Buildings
TRANSP:OPAQUE
UID:040000008200E00074C5B7101A82E00800000000D0FF878E9707D301000000000000000
	010000000CC1DCA790E055C448B34E0197F3F06A7
X-ALT-DESC;FMTTYPE=text/html:<!DOCTYPE HTML PUBLIC "-//W3C//DTD HTML 3.2//E
	N">\n<HTML>\n<HEAD>\n<META NAME="Generator" CONTENT="MS Exchange Server ve
	rsion 14.02.5004.000">\n<TITLE></TITLE>\n</HEAD>\n<BODY>\n<!-- Converted f
	rom text/rtf format -->\n\n<P DIR=LTR><SPAN LANG="en-nz"></SPAN><SPAN LANG
	="en-nz"><FONT FACE="Arial">Three historic buildings - Journeys End\, Lais
	hley House and Blockhouse - of the 1850-1860 era will be open for viewing\
	, featuring transport-themed displays.</FONT></SPAN><SPAN LANG="en-nz"></S
	PAN><SPAN LANG="en-nz"></SPAN></P>\n\n<P DIR=LTR><SPAN LANG="en-nz"></SPAN
	><A HREF="http://www.heritagefestival.co.nz/"><SPAN LANG="en-nz"></SPAN><S
	PAN LANG="en-nz"><U><FONT COLOR="#0000FF" FACE="Arial">http://www.heritage
	festival.co.nz/</FONT></U></SPAN><SPAN LANG="en-nz"></SPAN></A><SPAN LANG=
	"en-nz"></SPAN><SPAN LANG="en-nz"></SPAN></P>\n\n<P DIR=LTR><SPAN LANG="en
	-nz"></SPAN><SPAN LANG="en-nz"></SPAN></P>\n\n</BODY>\n</HTML>
X-MICROSOFT-CDO-BUSYSTATUS:BUSY
X-MICROSOFT-CDO-IMPORTANCE:1
X-MICROSOFT-DISALLOW-COUNTER:FALSE
X-MS-OLK-AUTOFILLLOCATION:FALSE
X-MS-OLK-CONFTYPE:0
BEGIN:VALARM
TRIGGER:-PT15M
ACTION:DISPLAY
DESCRIPTION:Reminder
END:VALARM
END:VEVENT
END:VCALENDAR
